BEGIN:VCALENDAR
VERSION:2.0
PRODID:-//ChamberMaster//Event Calendar 2.0//EN
METHOD:PUBLISH
X-PUBLISHED-TTL:P3D
REFRESH-INTERVAL:P3D
CALSCALE:GREGORIAN
BEGIN:VEVENT
DTSTART:20180802T180000Z
DTEND:20180802T210000Z
X-MICROSOFT-CDO-ALLDAYEVENT:FALSE
SUMMARY:Summer Junior Ranger Program at Staunton State Park
DESCRIPTION:Summer Jr Ranger Program\n\nThis program is designed for kids to enjoy an independent experience and gain knowledge of the outdoors. Parents are invited and encouraged to attend the final day graduation event.\n\n\n\nEach session includes a three day program held Wed. Thur. Fri. 12noon-3:00pm Sign up on-line at the Staunton State Park website or at the Park Entrance.
X-ALT-DESC;FMTTYPE=text/html:<span style="color:blue"><strong>Summer Jr Ranger Program</strong></span><br />\nThis program is designed for kids to enjoy an independent experience and gain knowledge of the outdoors. Parents are invited and encouraged to attend the final day graduation event.<br />\n<br />\nEach session includes a three day program held Wed. Thur. Fri. 12noon-3:00pm Sign up on-line at the Staunton State Park website or at the Park Entrance.
LOCATION:Staunton State Park\, 12102 S. Elk Creek Rd\, Pine CO 80470
UID:e.692.26462
SEQUENCE:3
DTSTAMP:20260421T033320Z
URL:https://business.goconifer.com/events/details/summer-junior-ranger-program-at-staunton-state-park-08-02-2018-26462
END:VEVENT

END:VCALENDAR
