BEGIN:VCALENDAR
VERSION:2.0
PRODID:-//ChamberMaster//Event Calendar 2.0//EN
METHOD:PUBLISH
X-PUBLISHED-TTL:P3D
REFRESH-INTERVAL:P3D
CALSCALE:GREGORIAN
BEGIN:VEVENT
DTSTART;VALUE=DATE:20130615
DTEND;VALUE=DATE:20130616
TRANSP:TRANSPARENT
X-MICROSOFT-CDO-ALLDAYEVENT:TRUE
SUMMARY:Summer Camp at StageDoor Theatre! ?The Greatest Show On Earth? PERFORMING ARTS
DESCRIPTION:"The Greatest Show On Earth" PERFORMING ARTS CAMP -Grades 2nd-5th\n\n	 \n\n	Description: The circus is in town as we spend a week discovering our inner clown\, acrobat\, juggler\, and animal trainer. We'll use all of our creative energies to invent the most fantastic and unique acts imaginable to be performed for families and friends the last day of class.
X-ALT-DESC;FMTTYPE=text/html:<p style="margin: 0in 0in 0pt\;">\n	<span style="font-family: &quot\;Arial&quot\;\,&quot\;sans-serif&quot\;\; mso-bidi-font-weight: bold\;">&ldquo\;The&nbsp\;Greatest Show On Earth&rdquo\; PERFORMING ARTS CAMP -Grades 2nd-5th</span></p>\n<p style="margin: 0in 0in 0pt\; text-align: justify\;">\n	<span style="color: rgb(51\, 51\, 51)\; font-family: &quot\;Arial&quot\;\,&quot\;sans-serif&quot\;\;">&nbsp\;</span></p>\n<p style="margin: 0in 0in 0pt\;">\n	<em><span style="font-family: Arial\, sans-serif\;">Description:</span></em><span class="apple-converted-space"><span style="font-family: Arial\, sans-serif\;">&nbsp\;</span></span><span style="font-family: Arial\, sans-serif\;">The circus is in town as we spend a week discovering our inner clown\, acrobat\, juggler\, and animal trainer. We&rsquo\;ll use all of our creative energies to invent the most fantastic and unique acts imaginable to be performed for families and friends the last day of class.<o:p></o:p></span></p>\n
LOCATION:StageDoor Theatre\, 25797 Conifer Road\, Conifer\, CO 80433
UID:e.692.1492
SEQUENCE:3
DTSTAMP:20260424T061407Z
URL:https://business.goconifer.com/events/details/summer-camp-at-stagedoor-theatre-the-greatest-show-on-earth-performing-arts-06-15-2013-1492
END:VEVENT

END:VCALENDAR
