BEGIN:VCALENDAR
VERSION:2.0
PRODID:-//ChamberMaster//Event Calendar 2.0//EN
METHOD:PUBLISH
X-PUBLISHED-TTL:P3D
REFRESH-INTERVAL:P3D
CALSCALE:GREGORIAN
BEGIN:VEVENT
DTSTART:20130708T150000Z
DTEND:20130719T180000Z
X-MICROSOFT-CDO-ALLDAYEVENT:FALSE
SUMMARY:Summer Camp at StageDoor Theatre! ?Murder Mystery? PLAY PRODUCTION CAMP - Grade
DESCRIPTION:"Murder Mystery" PLAY PRODUCTION CAMP - Grades 9th-12th\n\n	 \n\n	Description: This short two-week camp is the perfect opportunity for older students to keep their theatrical skills honed over the summer plus gain valuable audition skills needed for future productions."Murder at the Hotel Misallience" is a hilarious "who-done-it" where actors will really be given a chance to do some in-depth character work as they help create an array of uproarious suspects. The session will culminate with two performance on the main stage which will be ticketed to the public.  Performance dates are Friday July 19 and Saturday July 20 at 7:00 pm.
X-ALT-DESC;FMTTYPE=text/html:<p style="margin: 0in 0in 0pt\; text-align: justify\;">\n	<span style="font-family: &quot\;Arial&quot\;\,&quot\;sans-serif&quot\;\; mso-bidi-font-weight: bold\;">&ldquo\;Murder Mystery&rdquo\; PLAY PRODUCTION CAMP -</span><span style="font-family: &quot\;Arial&quot\;\,&quot\;sans-serif&quot\;\;">&nbsp\;Grades 9th-12th</span></p>\n<p style="margin: 0in 0in 0pt\; text-align: justify\;">\n	<span style="color: rgb(51\, 51\, 51)\; font-family: &quot\;Arial&quot\;\,&quot\;sans-serif&quot\;\;">&nbsp\;</span></p>\n<p style="margin: 0in 0in 0pt\;">\n	<em><span style="font-family: Arial\, sans-serif\;">Description:</span></em><span class="apple-converted-space"><span style="font-family: Arial\, sans-serif\;">&nbsp\;</span></span><span style="font-family: Arial\, sans-serif\;">This short two-week camp is the perfect opportunity for older students to keep their<span class="apple-converted-space">&nbsp\;</span>theatrical skills honed over the summer plus gain valuable audition skills needed for future productions.<em><span style="font-family: &quot\;Arial&quot\;\,&quot\;sans-serif&quot\;\; mso-bidi-font-weight: bold\;">&ldquo\;Murder at the Hotel Misallience&rdquo\;</span></em><span class="apple-converted-space">&nbsp\;</span>is a hilarious &ldquo\;who-done-it&rdquo\; where actors will really be<span class="apple-converted-space">&nbsp\;</span>given a chance to do some in-depth character work as they help create an array of uproarious suspects. The session will culminate with two performance on the main stage which will be ticketed to the public.&nbsp\; Performance dates are Friday July 19 and Saturday July 20 at 7:00 pm.<o:p></o:p></span></p>\n
LOCATION:StageDoor Theatre\, 25797 Conifer Road\, Conifer\, CO 80433
UID:e.692.1489
SEQUENCE:3
DTSTAMP:20260424T045251Z
URL:https://business.goconifer.com/events/details/summer-camp-at-stagedoor-theatre-murder-mystery-play-production-camp-grade-07-08-2013-1489
END:VEVENT

END:VCALENDAR
