BEGIN:VCALENDAR
VERSION:2.0
PRODID:-//ChamberMaster//Event Calendar 2.0//EN
METHOD:PUBLISH
X-PUBLISHED-TTL:P3D
REFRESH-INTERVAL:P3D
CALSCALE:GREGORIAN
BEGIN:VEVENT
DTSTART:20130708T150000Z
DTEND:20130712T180000Z
X-MICROSOFT-CDO-ALLDAYEVENT:FALSE
SUMMARY:Summer Camp at StageDoor Theatre! ?Make ?Em Laugh? PERFORMING ARTS CAMP - Grade
DESCRIPTION:"Make 'Em Laugh" PERFORMING ARTS CAMP - Grades 6th-8th\n\n	 \n\n	Description: Using humor\, students will explore\, in depth\, how to create delightful characters from the ground up. We will use improv techniques to examine the elements of a scene\, ultimately crafting a hilarious demonstration for family and friends the last day of class.
X-ALT-DESC;FMTTYPE=text/html:<p style="margin: 0in 0in 0pt\;">\n	<span style="font-family: &quot\;Arial&quot\;\,&quot\;sans-serif&quot\;\; mso-bidi-font-weight: bold\;">&ldquo\;Make &lsquo\;Em Laugh&rdquo\;</span><span style="font-family: &quot\;Arial&quot\;\,&quot\;sans-serif&quot\;\;">&nbsp\;PERFORMING ARTS CAMP&nbsp\;-&nbsp\;Grades 6th-8th</span></p>\n<p style="margin: 0in 0in 0pt\; text-align: justify\;">\n	<span style="color: rgb(51\, 51\, 51)\; font-family: &quot\;Arial&quot\;\,&quot\;sans-serif&quot\;\;">&nbsp\;</span></p>\n<p style="margin: 0in 0in 0pt\;">\n	<em><span style="font-family: Arial\, sans-serif\;">Description:</span></em><span class="apple-converted-space"><span style="font-family: Arial\, sans-serif\;">&nbsp\;</span></span><span style="font-family: Arial\, sans-serif\;">Using humor\, students will explore\, in depth\, how to create delightful characters from the ground up. We will use improv techniques to examine the elements of a scene\, ultimately crafting a hilarious demonstration for family and friends the last day of class.<o:p></o:p></span></p>\n
LOCATION:StageDoor Theatre\, 25797 Conifer Road\, Conifer\, CO 80433
UID:e.692.1490
SEQUENCE:3
DTSTAMP:20260424T044738Z
URL:https://business.goconifer.com/events/details/summer-camp-at-stagedoor-theatre-make-em-laugh-performing-arts-camp-grade-07-08-2013-1490
END:VEVENT

END:VCALENDAR
