BEGIN:VCALENDAR
VERSION:2.0
PRODID:-//ChamberMaster//Event Calendar 2.0//EN
METHOD:PUBLISH
X-PUBLISHED-TTL:P3D
REFRESH-INTERVAL:P3D
CALSCALE:GREGORIAN
BEGIN:VEVENT
DTSTART;VALUE=DATE:20130722
DTEND;VALUE=DATE:20130727
TRANSP:TRANSPARENT
X-MICROSOFT-CDO-ALLDAYEVENT:TRUE
SUMMARY:Summer Camp at StageDoor Theatre! ?Aesop-A-Rebop? PLAY PRODUCTION CAMP - Grades
DESCRIPTION:"Aesop-A-Rebop" PLAY PRODUCTION CAMP - Grades 6th-8th\n\n	 \n\n	Description: Aesop favorites are brought to life in this imaginative musical using rockin' song parodies of the 50's and 60's. (it is suggested all students enrolling have some prior theatre experience).  Performance dates are Friday July 26 and Saturday July 27 at 7:00 pm.
X-ALT-DESC;FMTTYPE=text/html:<p style="margin: 0in 0in 0pt\;">\n	<span style="font-family: &quot\;Arial&quot\;\,&quot\;sans-serif&quot\;\; mso-bidi-font-weight: bold\;">&ldquo\;Aesop-A-Rebop&rdquo\; PLAY PRODUCTION CAMP -</span><span style="font-family: &quot\;Arial&quot\;\,&quot\;sans-serif&quot\;\;">&nbsp\;Grades 6th-8th</span></p>\n<p style="margin: 0in 0in 0pt\; text-align: justify\;">\n	<span style="color: rgb(51\, 51\, 51)\; font-family: &quot\;Arial&quot\;\,&quot\;sans-serif&quot\;\;">&nbsp\;</span></p>\n<p style="margin: 0in 0in 0pt\;">\n	<em><span style="font-family: Arial\, sans-serif\;">Description:</span></em><span class="apple-converted-space"><span style="font-family: Arial\, sans-serif\;">&nbsp\;</span></span><span style="font-family: Arial\, sans-serif\;">Aesop favorites are brought to life in this imaginative musical using rockin&rsquo\; song parodies of the 50&rsquo\;s and 60&rsquo\;s. (it is suggested all students enrolling have some prior theatre experience).&nbsp\; Performance dates are Friday July 26<span class="apple-converted-space">&nbsp\;</span>and Saturday July 27<span class="apple-converted-space"><sup>&nbsp\;</sup></span>at 7:00 pm.&nbsp\;<o:p></o:p></span></p>\n
LOCATION:StageDoor Theatre\, 25797 Conifer Road\, Conifer\, CO 80433
UID:e.692.1493
SEQUENCE:3
DTSTAMP:20260424T045237Z
URL:https://business.goconifer.com/events/details/summer-camp-at-stagedoor-theatre-aesop-a-rebop-play-production-camp-grades-07-22-2013-1493
END:VEVENT

END:VCALENDAR
