BEGIN:VCALENDAR
VERSION:2.0
PRODID:-//ChamberMaster//Event Calendar 2.0//EN
METHOD:PUBLISH
X-PUBLISHED-TTL:P3D
REFRESH-INTERVAL:P3D
CALSCALE:GREGORIAN
BEGIN:VEVENT
DTSTART;VALUE=DATE:20140517
DTEND;VALUE=DATE:20140519
TRANSP:TRANSPARENT
X-MICROSOFT-CDO-ALLDAYEVENT:TRUE
SUMMARY:Staunton State Park is celebrating our 1st Anniversary
DESCRIPTION:Staunton State Park will be celebrating its one year anniversary on May 17th & 18th.\n\nFun events for the whole family.\n\nGuided hikes\, crafts\, volunteers dressed in period costumes\, interpretive programs.\n\nCome join us in celebrating the 1st anniversary of the Colorado's 'NEWEST' State Park!
X-ALT-DESC;FMTTYPE=text/html:Staunton State Park will be celebrating its one year anniversary on May 17th &amp\; 18th.<br />\nFun events for the whole family.<br />\nGuided hikes\, crafts\, volunteers dressed in period costumes\, interpretive programs.<br />\nCome join us in celebrating the 1st anniversary of the Colorado&#39\;s &#39\;NEWEST&#39\; State Park!
LOCATION:Staunton State Park
UID:e.692.2905
SEQUENCE:3
DTSTAMP:20260423T132037Z
URL:https://business.goconifer.com/events/details/staunton-state-park-is-celebrating-our-1st-anniversary-05-17-2014-2905
END:VEVENT

END:VCALENDAR
