BEGIN:VCALENDAR
VERSION:2.0
PRODID:-//ChamberMaster//Event Calendar 2.0//EN
METHOD:PUBLISH
X-PUBLISHED-TTL:P3D
REFRESH-INTERVAL:P3D
CALSCALE:GREGORIAN
BEGIN:VEVENT
DTSTART:20160730T160000Z
DTEND:20160730T210000Z
X-MICROSOFT-CDO-ALLDAYEVENT:FALSE
SUMMARY:Staunton State Park Interpreter’s Table: The Nutty World of Squirrels!
DESCRIPTION:Interpreter's Table: The Nutty World of Squirrels!  10am -3pm\n\nParticipants will explore Colorado's squirrels characteristics\, habitat and behaviors. Then take a hike through the amazing pine forests and look for squirrel clues
X-ALT-DESC;FMTTYPE=text/html:Interpreter&rsquo\;s Table: The Nutty World of Squirrels!&nbsp\; 10am -3pm<br />\nParticipants will explore Colorado&rsquo\;s squirrels characteristics\, habitat and behaviors. Then take a hike through the amazing pine forests and look for squirrel clues&hellip\;
LOCATION:Staunton State Park\, 12102 S Elk Creek Rd\, Pine CO 80470
UID:e.692.18927
SEQUENCE:3
DTSTAMP:20260421T193841Z
URL:https://business.goconifer.com/events/details/staunton-state-park-interpreter-s-table-the-nutty-world-of-squirrels-07-30-2016-18927
END:VEVENT

END:VCALENDAR
