BEGIN:VCALENDAR
VERSION:2.0
PRODID:-//ChamberMaster//Event Calendar 2.0//EN
METHOD:PUBLISH
X-PUBLISHED-TTL:P3D
REFRESH-INTERVAL:P3D
CALSCALE:GREGORIAN
BEGIN:VEVENT
DTSTART:20160716T160000Z
DTEND:20160716T210000Z
X-MICROSOFT-CDO-ALLDAYEVENT:FALSE
SUMMARY:Staunton State Park Interpreter’s Table The Great Bird Adventure!
DESCRIPTION:Interpreter's Table\n\nThe Great Bird Adventure!  10am -3pm\n\nParticipants will explore Colorado's most popular birds with a overview of interesting facts\, as well as nesting and feeding behaviors. Then armed with binoculars and birding guides visitors can enjoy a guided hike (12n) in search of these beautiful creatures!
X-ALT-DESC;FMTTYPE=text/html:Interpreter&rsquo\;s Table<br />\nThe Great Bird Adventure!&nbsp\; 10am -3pm<br />\nParticipants will explore Colorado&rsquo\;s most popular birds with a overview of interesting facts\, as well as nesting and feeding behaviors. Then armed with binoculars and birding guides visitors can enjoy a guided hike (12n) in search of these beautiful creatures!
LOCATION:Staunton State Park\, 12102 S Elk Creek Rd\, Pine CO 80470
UID:e.692.18923
SEQUENCE:3
DTSTAMP:20260421T182515Z
URL:https://business.goconifer.com/events/details/staunton-state-park-interpreter-s-table-the-great-bird-adventure-07-16-2016-18923
END:VEVENT

END:VCALENDAR
