BEGIN:VCALENDAR
VERSION:2.0
PRODID:-//ChamberMaster//Event Calendar 2.0//EN
METHOD:PUBLISH
X-PUBLISHED-TTL:P3D
REFRESH-INTERVAL:P3D
CALSCALE:GREGORIAN
BEGIN:VEVENT
DTSTART:20160724T160000Z
DTEND:20160724T210000Z
X-MICROSOFT-CDO-ALLDAYEVENT:FALSE
SUMMARY:Staunton State Park Interpreter’s Table: Bugs\, Bugs\, Bugs!
DESCRIPTION:Interpreter's Table\n\nBugs\, Bugs\, Bugs! What are they good for? 10am -3pm\n\nParticipants will learn the importance of insects to the Park's ecosystem and then armed with bug boxes and looking glasses search for these elusive little guys!
X-ALT-DESC;FMTTYPE=text/html:Interpreter&rsquo\;s Table<br />\nBugs\, Bugs\, Bugs! What are they good for? 10am -3pm<br />\nParticipants will learn the importance of insects to the Park&rsquo\;s ecosystem and then armed with bug boxes and looking glasses search for these elusive little guys!
LOCATION:Staunton State Park\, 12102 S Elk Creek Rd\, Pine CO 80470
UID:e.692.18925
SEQUENCE:3
DTSTAMP:20260421T182138Z
URL:https://business.goconifer.com/events/details/staunton-state-park-interpreter-s-table-bugs-bugs-bugs-07-24-2016-18925
END:VEVENT

END:VCALENDAR
