BEGIN:VCALENDAR
VERSION:2.0
PRODID:-//ChamberMaster//Event Calendar 2.0//EN
METHOD:PUBLISH
X-PUBLISHED-TTL:P3D
REFRESH-INTERVAL:P3D
CALSCALE:GREGORIAN
BEGIN:VEVENT
DTSTART:20160723T160000Z
DTEND:20160723T210000Z
X-MICROSOFT-CDO-ALLDAYEVENT:FALSE
SUMMARY:Staunton State Park Interpreter’s Table: Beautiful\, Bountiful\, Butterflies!
DESCRIPTION:Interpreter's Table\n\nBeautiful\, Bountiful\, Butterflies!  10am -3pm\n\nVisit Butterfly Town and learn about the life and habitats of our States's colorful butterflies. Visitors may also borrow a butterfly adventure pack to set out on a butterfly exploratory hike!
X-ALT-DESC;FMTTYPE=text/html:Interpreter&rsquo\;s Table<br />\nBeautiful\, Bountiful\, Butterflies!&nbsp\; 10am -3pm<br />\nVisit Butterfly Town and learn about the life and habitats of our States&rsquo\;s colorful butterflies. Visitors may also borrow a butterfly adventure pack to set out on a butterfly exploratory hike!
LOCATION:Staunton State Park\, 12102 S Elk Creek Rd\, Pine CO 80470
UID:e.692.18924
SEQUENCE:3
DTSTAMP:20260421T182353Z
URL:https://business.goconifer.com/events/details/staunton-state-park-interpreter-s-table-beautiful-bountiful-butterflies-07-23-2016-18924
END:VEVENT

END:VCALENDAR
