BEGIN:VCALENDAR
VERSION:2.0
PRODID:-//ChamberMaster//Event Calendar 2.0//EN
METHOD:PUBLISH
X-PUBLISHED-TTL:P3D
REFRESH-INTERVAL:P3D
CALSCALE:GREGORIAN
BEGIN:VEVENT
DTSTART:20140703T150000Z
DTEND:20140703T180000Z
X-MICROSOFT-CDO-ALLDAYEVENT:FALSE
SUMMARY:StageDoor Theatre Summer Camp 5th grade- Adult 2014
DESCRIPTION:BEGINNING MANDALA-MAKING (Family Opportunity) - 2 day event Description: Experience personal growth through the ancient art of mandala-making. Pat Andres\, MA\, Pacifica Graduate Institute\, offers transformational art-making gatherings. She gently facilitates teachings around the power of symbol and metaphor in our lives\, guiding participants to create an individual mandala\, as well as a communal mandala. Possibilities for design and media-choice are many. Come with your ideas or arrive with fresh eyes and hearts and be influenced by others. Join her in this dynamic process of self-expression! Grades: 5th grade - Adult (2nd -4th grade students welcomed with an adult) Dates: Tuesday and Thursday\, July 1st and 3rd Time: 9am-Noon Tuition: $150 Enroll: www.stagedoortheatre.org OR phone: 303-838-0809
X-ALT-DESC;FMTTYPE=text/html:BEGINNING MANDALA-MAKING (Family Opportunity) - 2 day event Description: Experience personal growth through the ancient art of mandala-making. Pat Andres\, MA\, Pacifica Graduate Institute\, offers transformational art-making gatherings. She gently facilitates teachings around the power of symbol and metaphor in our lives\, guiding participants to create an individual mandala\, as well as a communal mandala. Possibilities for design and media-choice are many. Come with your ideas or arrive with fresh eyes and hearts and be influenced by others. Join her in this dynamic process of self-expression! Grades: 5th grade - Adult (2nd -4th grade students welcomed with an adult) Dates: Tuesday and Thursday\, July 1st and 3rd Time: 9am-Noon Tuition: $150 Enroll: www.stagedoortheatre.org OR phone: 303-838-0809
LOCATION:StageDoor Theatre 25797 Conifer road Conifer CO
UID:e.692.2966
SEQUENCE:3
DTSTAMP:20260423T104523Z
URL:https://business.goconifer.com/events/details/stagedoor-theatre-summer-camp-5th-grade-adult-2014-07-03-2014-2966
END:VEVENT

END:VCALENDAR
