BEGIN:VCALENDAR
VERSION:2.0
PRODID:-//ChamberMaster//Event Calendar 2.0//EN
METHOD:PUBLISH
X-PUBLISHED-TTL:P3D
REFRESH-INTERVAL:P3D
CALSCALE:GREGORIAN
BEGIN:VEVENT
DTSTART:20160422T010000Z
DTEND:20160422T030000Z
X-MICROSOFT-CDO-ALLDAYEVENT:FALSE
SUMMARY:StageDoor Theatre Senior Company presents THE DROWSY CHAPERONE
DESCRIPTION:When a sentimental theatre fan\, The Man in the Chair\, plays his favorite cast album\, the characters come to life in this wonderful musical farce. The Drowsy Chaperone is a loving send-up of the Jazz age musical\, featuring one show-stopping song and dance number after another. Nowhere else will you find this mix of two lovers on the eve of their wedding\, a bumbling best man\, two gangsters posing as pastry chefs\, with a collection of clever surprises\, resulting in uncontrolled laughter. Please join us for an evening of madcap delight! You?ll leave smiling and humming. PERFORMANCES: April 8 - 23\, 2016 - Evenings (April 8\, 9\,14\,15\, 21\, 22\, 23) at 7:00 PM - Saturday matinee (4/23 only) at 2:00 PM. Tickets: $12 - $15 For further information and to purchase tickets\, visit www.stagedoortheatre.org or call: 303-838-0809. The show is rated PG
X-ALT-DESC;FMTTYPE=text/html:When a sentimental theatre fan\, The Man in the Chair\, plays his favorite cast album\, the characters come to life in this wonderful musical farce. The Drowsy Chaperone is a loving send-up of the Jazz age musical\, featuring one show-stopping song and dance number after another. Nowhere else will you find this mix of two lovers on the eve of their wedding\, a bumbling best man\, two gangsters posing as pastry chefs\, with a collection of clever surprises\, resulting in uncontrolled laughter. Please join us for an evening of madcap delight! You?ll leave smiling and humming. PERFORMANCES: April 8 - 23\, 2016 - Evenings (April 8\, 9\,14\,15\, 21\, 22\, 23) at 7:00 PM - Saturday matinee (4/23 only) at 2:00 PM. Tickets: $12 - $15 For further information and to purchase tickets\, visit www.stagedoortheatre.org or call: 303-838-0809. The show is rated PG
LOCATION:StageDoor Theatre 25797 Conifer Road Conifer CO 80433
UID:e.692.17138
SEQUENCE:3
DTSTAMP:20260422T013339Z
URL:https://business.goconifer.com/events/details/stagedoor-theatre-senior-company-presents-the-drowsy-chaperone-04-21-2016-17138
END:VEVENT

END:VCALENDAR
