BEGIN:VCALENDAR
VERSION:2.0
PRODID:-//ChamberMaster//Event Calendar 2.0//EN
METHOD:PUBLISH
X-PUBLISHED-TTL:P3D
REFRESH-INTERVAL:P3D
CALSCALE:GREGORIAN
BEGIN:VEVENT
DTSTART:20160512T130000Z
DTEND:20160513T020000Z
X-MICROSOFT-CDO-ALLDAYEVENT:FALSE
SUMMARY:StageDoor Theatre - REGISTRATION for Summer Camp classes
DESCRIPTION:Registration for StageDoor Theatre's Summer Camp educational program is open daily from now until JULY 1! Four themes will be explored this summer: JAMES & THE GIANT PEACH For students in grades Kindergarten - 1st\, and 2nd - 5th\, morning and afternoon classes are offered July 11 - 15. SPARROW TREES GROW-A-MUSICAL Exploration of writing & performing in an original musical for students in grades 1st - 5th\, classes are offered July 18 - 22. MAGICAL THEATRE PERFORMING ARTS CAMP An opportunity to develop and refine acting\, singing and dancing skills under the magical theme umbrella. For students in grades Kindergarten - 1st\, and 2nd - 5th\, morning and afternoon sessions are offered July 25 - July 29. SUMMER PASSPORT TO THE ARTS Vocal training\, acting & auditioning and dance & choreography are covered in three separate sessions from May 30 to August 8\, offered to students in grades 6 - 12. Register for one session or all three. For more information and to register for classes\, please visit www.stagedoortheatre.org. We are located at 25797 Conifer Road\, in Conifer. Phone: 303-838-0809\, or email: info@stagedoortheatre.org.
X-ALT-DESC;FMTTYPE=text/html:Registration for StageDoor Theatre's Summer Camp educational program is open daily from now until JULY 1! Four themes will be explored this summer: JAMES &amp\; THE GIANT PEACH For students in grades Kindergarten - 1st\, and 2nd - 5th\, morning and afternoon classes are offered July 11 - 15. SPARROW TREES GROW-A-MUSICAL Exploration of writing &amp\; performing in an original musical for students in grades 1st - 5th\, classes are offered July 18 - 22. MAGICAL THEATRE PERFORMING ARTS CAMP An opportunity to develop and refine acting\, singing and dancing skills under the magical theme umbrella. For students in grades Kindergarten - 1st\, and 2nd - 5th\, morning and afternoon sessions are offered July 25 - July 29. SUMMER PASSPORT TO THE ARTS Vocal training\, acting &amp\; auditioning and dance &amp\; choreography are covered in three separate sessions from May 30 to August 8\, offered to students in grades 6 - 12. Register for one session or all three. For more information and to register for classes\, please visit www.stagedoortheatre.org. We are located at 25797 Conifer Road\, in Conifer. Phone: 303-838-0809\, or email: info@stagedoortheatre.org.
LOCATION:StageDoor Theatre 25797 Conifer Road Conifer CO 80433
UID:e.692.17254
SEQUENCE:3
DTSTAMP:20260422T000147Z
URL:https://business.goconifer.com/events/details/stagedoor-theatre-registration-for-summer-camp-classes-05-12-2016-17254
END:VEVENT

END:VCALENDAR
