BEGIN:VCALENDAR
VERSION:2.0
PRODID:-//ChamberMaster//Event Calendar 2.0//EN
METHOD:PUBLISH
X-PUBLISHED-TTL:P3D
REFRESH-INTERVAL:P3D
CALSCALE:GREGORIAN
BEGIN:VEVENT
DTSTART:20121014T160000Z
DTEND:20121014T230000Z
X-MICROSOFT-CDO-ALLDAYEVENT:FALSE
SUMMARY:StageDoor Theatre presents the "1st Annual Mattress Sale Fundraiser"!
DESCRIPTION:Profits Go Directly to StageDoor Theatre!\n\n	 \n\n	The mattresses are extremely high quality\, have excellent warranties\, and most importantly\, are on sale 30%-60% off of retail store prices!  Mark Your Calendar!  One Day Only!\n\n	 \n\n	All sizes available (Twin-King/Cal-King) RV Sizes too!\n\n	Pillowtops\, Orthopedics and Gel Memory Foams!\n\n	All Brand New with Factory Warranties!\n\n	Name Brands such as Restonic\, Southerland and more!\n\n	Layaway Available and Delivery Available!\n\n	Cash\, Checks and Credit Cards Accepted\n\n	High Quality\, Low Prices\, No Pressure
X-ALT-DESC;FMTTYPE=text/html:<p class="MsoNormal" style="margin: 0in 0in 0pt">\n	<span style="font-family: 'arial'\, 'sans-serif'\; color: windowtext\; font-size: 12pt\; mso-bidi-font-size: 10.0pt"><i style="mso-bidi-font-style: normal"><span style="font-family: 'arial'\, 'sans-serif'\; color: windowtext\; font-size: 12pt">Profits Go Directly to StageDoor Theatre!</span></i><span style="font-family: 'arial'\, 'sans-serif'\; color: windowtext\; font-size: 12pt\; mso-font-kerning: 0pt"><o:p></o:p></span></span></p>\n<p class="MsoNormal" style="margin: 0in 0in 0pt">\n	<span style="font-family: 'arial'\, 'sans-serif'\; color: windowtext\; font-size: 12pt\; mso-bidi-font-size: 10.0pt"><span style="font-family: 'arial'\, 'sans-serif'\; color: windowtext\; font-size: 12pt\; mso-font-kerning: 0pt"><o:p>&nbsp\;</o:p></span></span></p>\n<p class="MsoNormal" style="margin: 0in 0in 0pt">\n	<span style="font-family: 'arial'\, 'sans-serif'\; color: windowtext\; font-size: 12pt\; mso-bidi-font-size: 10.0pt"><i><span style="font-family: 'arial'\, 'sans-serif'\; color: windowtext\; font-size: 12pt\; mso-font-kerning: 0pt">The mattresses are extremely high quality\, have excellent warranties\, and most importantly\, are on sale 30%-60% off of retail store prices!<span style="mso-spacerun: yes">&nbsp\; </span></span></i><span style="font-family: 'arial'\, 'sans-serif'\; color: windowtext\; font-size: 12pt\; mso-font-kerning: 0pt">Mark Your Calendar!<span style="mso-spacerun: yes">&nbsp\; </span>One Day Only!<o:p></o:p></span></span></p>\n<p class="MsoNormal" style="margin: 0in 0in 0pt">\n	<span style="font-family: 'arial'\, 'sans-serif'\; color: windowtext\; font-size: 12pt\; mso-bidi-font-size: 10.0pt"><span style="font-family: 'arial'\, 'sans-serif'\; color: windowtext\; font-size: 12pt\; mso-font-kerning: 0pt"><o:p>&nbsp\;</o:p></span></span></p>\n<p class="MsoNormal" style="margin: 0in 0in 0pt">\n	<span style="font-family: 'arial'\, 'sans-serif'\; color: windowtext\; font-size: 12pt\; mso-bidi-font-size: 10.0pt"><span style="font-family: 'arial'\, 'sans-serif'\; color: windowtext\; font-size: 12pt">All sizes available (Twin-King/Cal-King) RV Sizes too!<o:p></o:p></span></span></p>\n<p class="MsoNormal" style="margin: 0in 0in 0pt">\n	<span style="font-family: 'arial'\, 'sans-serif'\; color: windowtext\; font-size: 12pt\; mso-bidi-font-size: 10.0pt"><span style="font-family: 'arial'\, 'sans-serif'\; color: windowtext\; font-size: 12pt">Pillowtops\, Orthopedics and Gel Memory Foams!<o:p></o:p></span></span></p>\n<p class="MsoNormal" style="margin: 0in 0in 0pt">\n	<span style="font-family: 'arial'\, 'sans-serif'\; color: windowtext\; font-size: 12pt\; mso-bidi-font-size: 10.0pt"><span style="font-family: 'arial'\, 'sans-serif'\; color: windowtext\; font-size: 12pt">All Brand New with Factory Warranties!<o:p></o:p></span></span></p>\n<p class="MsoNormal" style="margin: 0in 0in 0pt">\n	<span style="font-family: 'arial'\, 'sans-serif'\; color: windowtext\; font-size: 12pt\; mso-bidi-font-size: 10.0pt"><span style="font-family: 'arial'\, 'sans-serif'\; color: windowtext\; font-size: 12pt">Name Brands such as Restonic\, Southerland and more!<o:p></o:p></span></span></p>\n<p class="MsoNormal" style="margin: 0in 0in 0pt">\n	<span style="font-family: 'arial'\, 'sans-serif'\; color: windowtext\; font-size: 12pt\; mso-bidi-font-size: 10.0pt"><span style="font-family: 'arial'\, 'sans-serif'\; color: windowtext\; font-size: 12pt">Layaway Available and Delivery Available!<o:p></o:p></span></span></p>\n<p class="MsoNormal" style="margin: 0in 0in 0pt">\n	<span style="font-family: 'arial'\, 'sans-serif'\; color: windowtext\; font-size: 12pt\; mso-bidi-font-size: 10.0pt"><span style="font-family: 'arial'\, 'sans-serif'\; color: windowtext\; font-size: 12pt">Cash\, Checks and Credit Cards Accepted<o:p></o:p></span></span></p>\n<p class="MsoNormal" style="margin: 0in 0in 0pt">\n	<span style="font-family: 'arial'\, 'sans-serif'\; color: windowtext\; font-size: 12pt\; mso-bidi-font-size: 10.0pt"><span style="font-family: 'arial'\, 'sans-serif'\; color: windowtext\; font-size: 12pt\; mso-bidi-font-size: 10.0pt">High Quality\, Low Prices\, No Pressure</span><span style="font-family: 'arial'\, 'sans-serif'\; color: windowtext\; font-size: 12pt"><o:p></o:p></span></span></p>\n<p class="MsoNormal" style="margin: 0in 0in 0pt">\n	<span style="font-family: 'arial'\, 'sans-serif'\; color: windowtext\; font-size: 12pt\; mso-bidi-font-size: 10.0pt"><span class="postbody1"><span style="font-family: 'arial'\, 'sans-serif'\; color: windowtext\; font-size: 11pt"><o:p>&nbsp\;</o:p></span></span></span></p>\n
LOCATION:West Jeff Middle School\, 9449 S. Barnes Ave.\, Conifer\, CO 80433
UID:e.692.1354
SEQUENCE:3
DTSTAMP:20260424T161036Z
URL:https://business.goconifer.com/events/details/stagedoor-theatre-presents-the-1st-annual-mattress-sale-fundraiser-10-14-2012-1354
END:VEVENT

END:VCALENDAR
