BEGIN:VCALENDAR
VERSION:2.0
PRODID:-//ChamberMaster//Event Calendar 2.0//EN
METHOD:PUBLISH
X-PUBLISHED-TTL:P3D
REFRESH-INTERVAL:P3D
CALSCALE:GREGORIAN
BEGIN:VEVENT
DTSTART:20140201T023000Z
DTEND:20140216T023000Z
X-MICROSOFT-CDO-ALLDAYEVENT:FALSE
SUMMARY:StageDoor Theatre presents Deathtrap
DESCRIPTION:This ingeniously constructed "play within a play" offers gasp-inducing thrills and spontaneous laughter featuring our Adult Company. Sidney Bruhl (Buz Gibson)\, a successful writer of Broadway thrillers\, is struggling to overcome a "dry" spell\, which has resulted in a string of failures and a shortage of funds. A possible break in his fortunes occurs when he receives a script from a student (Chris Abernathy)?a thriller\, which Sidney recognizes immediately as a potential hit. Sidney's plan\, devised with his wife's (Janice O'Grady) help\, is to offer collaboration to the student. Thereafter suspense mounts steadily as the plot begins to twist and turn with devilish cleverness\, and with such an abundance of thrills and laughter\, that audiences will be held enthralled until the final\, startling moments of the play. Rated PG
X-ALT-DESC;FMTTYPE=text/html:This ingeniously constructed &quot\;play within a play&quot\; offers gasp-inducing thrills and spontaneous laughter featuring our Adult Company. Sidney Bruhl (Buz Gibson)\, a successful writer of Broadway thrillers\, is struggling to overcome a &quot\;dry&quot\; spell\, which has resulted in a string of failures and a shortage of funds. A possible break in his fortunes occurs when he receives a script from a student (Chris Abernathy)?a thriller\, which Sidney recognizes immediately as a potential hit. Sidney&#39\;s plan\, devised with his wife&#39\;s (Janice O&#39\;Grady) help\, is to offer collaboration to the student. Thereafter suspense mounts steadily as the plot begins to twist and turn with devilish cleverness\, and with such an abundance of thrills and laughter\, that audiences will be held enthralled until the final\, startling moments of the play. Rated PG
LOCATION:StageDoor Theatre 25797 Conifer Road\, Conifer\, CO 80433
UID:e.692.1764
SEQUENCE:3
DTSTAMP:20260423T172250Z
URL:https://business.goconifer.com/events/details/stagedoor-theatre-presents-deathtrap-01-31-2014-1764
END:VEVENT

END:VCALENDAR
