BEGIN:VCALENDAR
VERSION:2.0
PRODID:-//ChamberMaster//Event Calendar 2.0//EN
METHOD:PUBLISH
X-PUBLISHED-TTL:P3D
REFRESH-INTERVAL:P3D
CALSCALE:GREGORIAN
BEGIN:VEVENT
DTSTART:20160130T023000Z
DTEND:20160130T043000Z
X-MICROSOFT-CDO-ALLDAYEVENT:FALSE
SUMMARY:StageDoor Theatre presents CALENDAR GIRLS
DESCRIPTION:CALENDAR GIRLS Written by Tim Firth Directed by Pamela Clifton Featuring the StageDoor Theatre Adult Company THEY DROPPED EVERYTHING FOR A GOOD CAUSE......... Modeled on the hit movie\, the tale is based on a true story about a group of working-class British housewives who became overnight celebrities by posing for a nude calendar in order to raise money for a new leukemia unit at their local hospital. Their venture is a huge success\, but the women?s friendship is put to the test under the strain of their newfound fame. RATED PG-13 January 29 ? February 14\, 2016 Fridays & Saturdays at 7:30pm Matinees\, February 6 & 14 at 2pm Tickets: $16 -$22 20% discount for groups of 10 or more Special Valentine?s Performance on February 14 at 2pm\, includes dessert served at intermission. Purchase tickets at http://www.StageDoorTheatre.org 25797 Conifer Road\, Conifer\, CO 80433 303-838-0809
X-ALT-DESC;FMTTYPE=text/html:CALENDAR GIRLS Written by Tim Firth Directed by Pamela Clifton Featuring the StageDoor Theatre Adult Company THEY DROPPED EVERYTHING FOR A GOOD CAUSE......... Modeled on the hit movie\, the tale is based on a true story about a group of working-class British housewives who became overnight celebrities by posing for a nude calendar in order to raise money for a new leukemia unit at their local hospital. Their venture is a huge success\, but the women?s friendship is put to the test under the strain of their newfound fame. RATED PG-13 January 29 ? February 14\, 2016 Fridays &amp\; Saturdays at 7:30pm Matinees\, February 6 &amp\; 14 at 2pm Tickets: $16 -$22 20% discount for groups of 10 or more Special Valentine?s Performance on February 14 at 2pm\, includes dessert served at intermission. Purchase tickets at http://www.StageDoorTheatre.org 25797 Conifer Road\, Conifer\, CO 80433 303-838-0809
LOCATION:STAGEDOOR THEATRE 25797 Conifer Road Conifer CO 80433
UID:e.692.14187
SEQUENCE:3
DTSTAMP:20260422T054942Z
URL:https://business.goconifer.com/events/details/stagedoor-theatre-presents-calendar-girls-01-29-2016-14187
END:VEVENT

END:VCALENDAR
