BEGIN:VCALENDAR
VERSION:2.0
PRODID:-//ChamberMaster//Event Calendar 2.0//EN
METHOD:PUBLISH
X-PUBLISHED-TTL:P3D
REFRESH-INTERVAL:P3D
CALSCALE:GREGORIAN
BEGIN:VEVENT
DTSTART:20130809T233000Z
DTEND:20130810T030000Z
X-MICROSOFT-CDO-ALLDAYEVENT:FALSE
SUMMARY:StageDoor Theatre Hosts High School Auditions
DESCRIPTION:StageDoor Theatre\, 25797 Conifer Road\, Conifer\, CO 80433\n\n	 \n\n	Auditions are for StageDoor Theatre's high school company productions of How to Succeed at Business Without Really Trying (fall production)\, Little Women (winter production) and The Wedding Singer (spring 2014 production).  \n\n	 \n\n	Character call backs will be Saturday\, the 10th at 10:00 AM.
X-ALT-DESC;FMTTYPE=text/html:<p class="MsoNormal">\n	<span class="postbody1"><span style="color: windowtext\; font-family: &quot\;Arial&quot\;\,&quot\;sans-serif&quot\;\; font-size: 12pt\;">StageDoor Theatre\, 25797 Conifer Road\, Conifer\, CO 80433<o:p></o:p></span></span></p>\n<h5 style="margin: 0in 0in 0pt\; vertical-align: baseline\;">\n	<span style="font-family: &quot\;Arial&quot\;\,&quot\;sans-serif&quot\;\; font-size: 12pt\; font-weight: normal\; mso-bidi-font-weight: bold\;">&nbsp\;</span></h5>\n<p class="MsoNormal">\n	<span style="font-family: &quot\;Arial&quot\;\,&quot\;sans-serif&quot\;\; font-size: 12pt\;">Auditions are for StageDoor Theatre&#39\;s high school company productions of <i>How to Succeed at Business Without Really Trying (fall production)\, Little Women</i> (winter production) and <i>The Wedding Singer </i>(spring 2014 production).&nbsp\; <o:p></o:p></span></p>\n<p class="MsoNormal">\n	<span style="font-family: &quot\;Arial&quot\;\,&quot\;sans-serif&quot\;\; font-size: 12pt\;">&nbsp\;</span></p>\n<p class="MsoNormal">\n	<span style="font-family: &quot\;Arial&quot\;\,&quot\;sans-serif&quot\;\; font-size: 12pt\;">Character call backs will be Saturday\, the 10th at 10:00 AM.<o:p></o:p></span></p>\n
LOCATION:StageDoor Theatre 25797 Conifer Road\, Conifer\, CO 80433
UID:e.692.1503
SEQUENCE:3
DTSTAMP:20260424T015830Z
URL:https://business.goconifer.com/events/details/stagedoor-theatre-hosts-high-school-auditions-08-09-2013-1503
END:VEVENT

END:VCALENDAR
