BEGIN:VCALENDAR
VERSION:2.0
PRODID:-//ChamberMaster//Event Calendar 2.0//EN
METHOD:PUBLISH
X-PUBLISHED-TTL:P3D
REFRESH-INTERVAL:P3D
CALSCALE:GREGORIAN
BEGIN:VEVENT
DTSTART:20160731T013000Z
DTEND:20160731T040000Z
X-MICROSOFT-CDO-ALLDAYEVENT:FALSE
SUMMARY:STAGEDOOR THEATRE: A FUNNY THING HAPPENED ON THE WAY TO THE FORUM
DESCRIPTION:STAGEDOOR THEATRE presents: A Funny Thing Happened on the Way to the Forum Featuring the Adult Company Music and Lyrics by Stephan Sondheim Directed by Fran Arniotes Musical Direction by Tanner Kelly Choreography by Tracy Doty This musical farce tells the bawdy story of a slave named Pseudolus and his attempts to win his freedom by helping his young master woo the girl next door. The plot is riddled with many classic elements of farce\, including puns\, the slamming of doors\, cases of mistaken identity and satirical comments. Please join us for an evening of witty and hilarious adult comedy. Purchase tickets at www.stagedoortheatre.org
X-ALT-DESC;FMTTYPE=text/html:STAGEDOOR THEATRE presents: A Funny Thing Happened on the Way to the Forum Featuring the Adult Company Music and Lyrics by Stephan Sondheim Directed by Fran Arniotes Musical Direction by Tanner Kelly Choreography by Tracy Doty This musical farce tells the bawdy story of a slave named Pseudolus and his attempts to win his freedom by helping his young master woo the girl next door. The plot is riddled with many classic elements of farce\, including puns\, the slamming of doors\, cases of mistaken identity and satirical comments. Please join us for an evening of witty and hilarious adult comedy. Purchase tickets at www.stagedoortheatre.org
LOCATION:StageDoor Theatre 25797 Conifer Road Conifer Co 80439
UID:e.692.18898
SEQUENCE:3
DTSTAMP:20260421T211929Z
URL:https://business.goconifer.com/events/details/stagedoor-theatre-a-funny-thing-happened-on-the-way-to-the-forum-07-30-2016-18898
END:VEVENT

END:VCALENDAR
