BEGIN:VCALENDAR
VERSION:2.0
PRODID:-//ChamberMaster//Event Calendar 2.0//EN
METHOD:PUBLISH
X-PUBLISHED-TTL:P3D
REFRESH-INTERVAL:P3D
CALSCALE:GREGORIAN
BEGIN:VEVENT
DTSTART:20141108T160000Z
DTEND:20141108T220000Z
X-MICROSOFT-CDO-ALLDAYEVENT:FALSE
SUMMARY:St. Laurence ChristmasFest
DESCRIPTION:Get in the holiday spirit at the annual St. Laurence ChristmasFest event and enjoy homemade soups\, chili\, breakfast burritos\, cinnamon rolls\, hot cider and baked goods\, including gluten-free options\, all under one roof with jewelry\, jams\, crafts\, items created by local artisans\, gift ideas and more. Come to the cafe then browse a wide array of goods as you are serenaded by local musicians. Take a minute to write a note to our troops at the Holiday Mail for Heroes table. It's a great tradition!
X-ALT-DESC;FMTTYPE=text/html:Get in the holiday spirit at the annual St. Laurence ChristmasFest event and enjoy homemade soups\, chili\, breakfast burritos\, cinnamon rolls\, hot cider and baked goods\, including gluten-free options\, all under one roof with jewelry\, jams\, crafts\, items created by local artisans\, gift ideas and more. Come to the cafe then browse a wide array of goods as you are serenaded by local musicians. Take a minute to write a note to our troops at the Holiday Mail for Heroes table. It&#39\;s a great tradition!
LOCATION:St. Laurence Episcopal Church 26812 Barkley Rd.\, Conifer
UID:e.692.5399
SEQUENCE:3
DTSTAMP:20260423T062037Z
URL:https://business.goconifer.com/events/details/st-laurence-christmasfest-11-08-2014-5399
END:VEVENT

END:VCALENDAR
