BEGIN:VCALENDAR
VERSION:2.0
PRODID:-//ChamberMaster//Event Calendar 2.0//EN
METHOD:PUBLISH
X-PUBLISHED-TTL:P3D
REFRESH-INTERVAL:P3D
CALSCALE:GREGORIAN
BEGIN:VEVENT
DTSTART:20140626T153000Z
DTEND:20140626T213000Z
X-MICROSOFT-CDO-ALLDAYEVENT:FALSE
SUMMARY:SRC Outing
DESCRIPTION:This month's outing will be a trip to Georgetown\, CO. Enjoy browsing the local shops and galleries and have lunch at one of the many restaurants. Please meet at the Yellow House at 9:15 am for a 9:30 am departure. Additional pick up locations are at Green Ridge Meadow Apartments and Rocky Mountain Village. Please RSVP to Debbie @ 303.679.2552
X-ALT-DESC;FMTTYPE=text/html:This month&#39\;s outing will be a trip to Georgetown\, CO. Enjoy browsing the local shops and galleries and have lunch at one of the many restaurants. Please meet at the Yellow House at 9:15 am for a 9:30 am departure. Additional pick up locations are at Green Ridge Meadow Apartments and Rocky Mountain Village. Please RSVP to Debbie @ 303.679.2552
LOCATION:Georgetown\, CO
UID:e.692.3050
SEQUENCE:3
DTSTAMP:20260423T115434Z
URL:https://business.goconifer.com/events/details/src-outing-06-26-2014-3050
END:VEVENT

END:VCALENDAR
