BEGIN:VCALENDAR
VERSION:2.0
PRODID:-//ChamberMaster//Event Calendar 2.0//EN
METHOD:PUBLISH
X-PUBLISHED-TTL:P3D
REFRESH-INTERVAL:P3D
CALSCALE:GREGORIAN
BEGIN:VEVENT
DTSTART:20120601T150000Z
DTEND:20120603T210000Z
X-MICROSOFT-CDO-ALLDAYEVENT:FALSE
SUMMARY:Spring Whale of a Used Book Sale
DESCRIPTION:Friends of the Jefferson County Public Library Spring Whale of a Used Book Sale splashes down at the Jefferson County Fairgrounds June 1-3\, 2012. \n\n\n\nHours are 9 a.m. -5 p.m. on Friday and Saturday and 11 a.m. -3 p.m. on Sunday. Admission is free.  \n\n\n\nSaturday is Family Fun day. Face painters and a craft activity will be featured for kids from 11 a.m.-3 p.m. - Saturday only! \n\n\n\nYou'll be swimming in over 100\,000 books\, CDs\, DVDs\, videos\, audiobooks with prices ranging from .50 to 2.50 on most items. Sunday is Bag Day-$5.00 per bag of books. \n\n\n\nFor more information or to volunteer\, call (303) 403-5075 or email friends@jeffcolibrary.org. Proceeds benefit children and teen literacy programs.
X-ALT-DESC;FMTTYPE=text/html:<span style="font-family: Arial\, sans-serif">Friends of the Jefferson County Public Library Spring Whale of a Used Book Sale splashes down at the Jefferson County Fairgrounds June 1-3\, 2012.&nbsp\;<br />\n<br />\nHours are 9 a.m. -5 p.m. on Friday and Saturday and 11 a.m. -3 p.m. on Sunday. Admission is free.&nbsp\;&nbsp\;<br />\n<br />\nSaturday is Family Fun day. Face painters and a craft activity will be featured for kids from 11 a.m.-3 p.m. - Saturday only!&nbsp\;<br />\n<br />\nYou&rsquo\;ll be swimming in over 100\,000 books\, CDs\, DVDs\, videos\, audiobooks with prices ranging from .50 to 2.50 on most items. Sunday is Bag Day-$5.00 per bag of books.&nbsp\;<br />\n<br />\nFor more information or to volunteer\, call (303) 403-5075 or email&nbsp\;</span><a href="mailto:friends@jeffcolibrary.org"><span style="font-family: Arial\, sans-serif\; color: black">friends@jeffcolibrary.org</span></a><span style="font-family: Arial\, sans-serif">. Proceeds benefit children and teen literacy programs.&nbsp\;</span>
LOCATION:Jefferson County Fairgrounds
UID:e.692.1265
SEQUENCE:3
DTSTAMP:20260424T214508Z
URL:https://business.goconifer.com/events/details/spring-whale-of-a-used-book-sale-06-01-2012-1265
END:VEVENT

END:VCALENDAR
