BEGIN:VCALENDAR
VERSION:2.0
PRODID:-//ChamberMaster//Event Calendar 2.0//EN
METHOD:PUBLISH
X-PUBLISHED-TTL:P3D
REFRESH-INTERVAL:P3D
CALSCALE:GREGORIAN
BEGIN:VEVENT
DTSTART:20120519T150000Z
DTEND:20120519T210000Z
X-MICROSOFT-CDO-ALLDAYEVENT:FALSE
SUMMARY:Spring Fling It Recycling Festival
DESCRIPTION:Recycling of Electronics\, Co-Mingled Recyclables\, Styrofoam Blocks\, Document Shredding\, Scrap Metal\, Mobility Devices\, Bicycles\, Clothing & Shoes.  Tires at Big O Tires.  (NO HOUSEHOLD HAZARDOUS WASTE)  \n\n\n\nInterested in Volunteering?\n\nContact Susan Imming - see contact information below
X-ALT-DESC;FMTTYPE=text/html:Recycling of Electronics\, Co-Mingled Recyclables\, Styrofoam Blocks\, Document Shredding\, Scrap Metal\, Mobility Devices\, Bicycles\, Clothing &amp\; Shoes. &nbsp\;Tires at Big O Tires. &nbsp\;(NO HOUSEHOLD HAZARDOUS WASTE) &nbsp\;<br />\n<br />\nInterested in Volunteering?<br />\nContact Susan Imming - see contact information below
LOCATION:Conifer High School
UID:e.692.1258
SEQUENCE:3
DTSTAMP:20260425T003746Z
URL:https://business.goconifer.com/events/details/spring-fling-it-recycling-festival-05-19-2012-1258
END:VEVENT

END:VCALENDAR
