BEGIN:VCALENDAR
VERSION:2.0
PRODID:-//ChamberMaster//Event Calendar 2.0//EN
METHOD:PUBLISH
X-PUBLISHED-TTL:P3D
REFRESH-INTERVAL:P3D
CALSCALE:GREGORIAN
BEGIN:VEVENT
DTSTART:20110316T150000Z
DTEND:20110316T163000Z
X-MICROSOFT-CDO-ALLDAYEVENT:FALSE
SUMMARY:Spring Fling Committee Meeting: March
DESCRIPTION:Spring Fling Committee Meeting\nIf you would like to help plan this family-friendly event that will be held on Sunday\, May 1st from 1p - 4p at the Meadow Creek B & B\, please join us!  The Spring Fling replaces the Spring Banquet.  This event is an informational and social mixer featuring aspects of the chamber\, local restaurants\, door prizes\, and activities for the kids!
X-ALT-DESC;FMTTYPE=text/html:<p style="text-align: center\; ">\n	<span style="font-family:arial\;"><span style="font-size:11.0pt\;">Spring Fling Committee Meeting</span></span></p>\n<span style="font-family:arial\;"><span style="font-size:11.0pt\;">If you would like to help plan this family-friendly event that will be held on&#8232\;Sunday\, May 1st from 1p - 4p at the Meadow Creek B &amp\; B\, please join us!&#8232\;&#8232\;The Spring Fling replaces the Spring Banquet.&nbsp\;&#8232\;This event is an informational and social mixer featuring aspects of the chamber\, local restaurants\, door prizes\, and activities for the kids!</span></span>
LOCATION:There is no fee to attend this meeting.
UID:e.692.1115
SEQUENCE:3
DTSTAMP:20260425T021253Z
URL:https://business.goconifer.com/events/details/spring-fling-committee-meeting-march-03-16-2011-1115
END:VEVENT

END:VCALENDAR
