BEGIN:VCALENDAR
VERSION:2.0
PRODID:-//ChamberMaster//Event Calendar 2.0//EN
METHOD:PUBLISH
X-PUBLISHED-TTL:P3D
REFRESH-INTERVAL:P3D
CALSCALE:GREGORIAN
BEGIN:VEVENT
DTSTART:20110209T163000Z
DTEND:20110209T174500Z
X-MICROSOFT-CDO-ALLDAYEVENT:FALSE
SUMMARY:Spring Fling Committee Meeting
DESCRIPTION:Spring Fling Committee Meeting\n\n	If you would like to help plan this family-friendly event that will be held on\n\n	Sunday\, May 1st from 1p - 4p at the Meadow Creek B & B\, please join us!\n\n	\n\n	The Spring Fling replaces the Spring Banquet. \n\n	This event is an informational and social mixer featuring aspects of the chamber\, local restaurants\, door prizes\, and activities for the kids!
X-ALT-DESC;FMTTYPE=text/html:<p style="text-align: center\; ">\n	Spring Fling Committee Meeting</p>\n<p style="text-align: center\; ">\n	If you would like to help plan this family-friendly event that will be held on<br />\n	Sunday\, May 1st from 1p - 4p at the Meadow Creek B &amp\; B\, please join us!<br />\n	<br />\n	The Spring Fling replaces the Spring Banquet.&nbsp\;<br />\n	This event is an informational and social mixer featuring aspects of the chamber\, local restaurants\, door prizes\, and activities for the kids!</p>\n
LOCATION:Conifer Area Chamber of Commerce Office 11873 Springs Road\, Suite 135 (In front of the Route 285 Sports Bar & Grill\, on the opposite end of Happy Grow Lucky)
UID:e.692.849
SEQUENCE:3
DTSTAMP:20260425T021059Z
URL:https://business.goconifer.com/events/details/spring-fling-committee-meeting-02-09-2011-849
END:VEVENT

END:VCALENDAR
