BEGIN:VCALENDAR
VERSION:2.0
PRODID:-//ChamberMaster//Event Calendar 2.0//EN
METHOD:PUBLISH
X-PUBLISHED-TTL:P3D
REFRESH-INTERVAL:P3D
CALSCALE:GREGORIAN
BEGIN:VEVENT
DTSTART:20100629T003000Z
DTEND:20100629T021500Z
X-MICROSOFT-CDO-ALLDAYEVENT:FALSE
SUMMARY:Speed Dating Your Spouse/Families Fighting Fatigue Workshop
DESCRIPTION:Join us at Mountain Resource Center for a FREE and FUN "Families Fighting Fatigue" workshop. Learn effective ways to balance and nurture your relationships. Food\, prizes and childcare provided.
X-ALT-DESC;FMTTYPE=text/html:Join us at Mountain Resource Center for a FREE and FUN "Families Fighting Fatigue" workshop. Learn effective ways to balance and nurture your relationships. Food\, prizes and childcare provided.
LOCATION:Mountain Resource Center 11030 Kitty Dr. Conifer\, Co 80433
UID:e.692.433
SEQUENCE:3
DTSTAMP:20260424T130939Z
URL:https://business.goconifer.com/events/details/speed-dating-your-spouse-families-fighting-fatigue-workshop-06-28-2010-433
END:VEVENT

END:VCALENDAR
