BEGIN:VCALENDAR
VERSION:2.0
PRODID:-//ChamberMaster//Event Calendar 2.0//EN
METHOD:PUBLISH
X-PUBLISHED-TTL:P3D
REFRESH-INTERVAL:P3D
CALSCALE:GREGORIAN
BEGIN:VEVENT
DTSTART:20101205T210000Z
DTEND:20101205T230000Z
X-MICROSOFT-CDO-ALLDAYEVENT:FALSE
SUMMARY:Songs of Hope - ECC's Annual Holiday Concertr
DESCRIPTION:The Evergreen Children's Chorale once again brings joy to the holidays with their annual choral concert.  This year the ECC will share a selection of moving works written and performed over the years for commemorations or special occasions throughout the world.  Of course\, holiday favorites will highlight this enjoyable concert experience.
X-ALT-DESC;FMTTYPE=text/html:The Evergreen Children's Chorale once again brings joy to the holidays with their annual choral concert.  This year the ECC will share a selection of moving works written and performed over the years for commemorations or special occasions throughout the world.  Of course\, holiday favorites will highlight this enjoyable concert experience.\n<br>
LOCATION:Center/Stage Theater 27608 Fireweed Dr Evergreen\, CO
UID:e.692.807
SEQUENCE:3
DTSTAMP:20260424T212708Z
URL:https://business.goconifer.com/events/details/songs-of-hope-ecc-s-annual-holiday-concertr-12-05-2010-807
END:VEVENT

END:VCALENDAR
