BEGIN:VCALENDAR
VERSION:2.0
PRODID:-//ChamberMaster//Event Calendar 2.0//EN
METHOD:PUBLISH
X-PUBLISHED-TTL:P3D
REFRESH-INTERVAL:P3D
CALSCALE:GREGORIAN
BEGIN:VEVENT
DTSTART:20160123T170000Z
DTEND:20160123T183000Z
X-MICROSOFT-CDO-ALLDAYEVENT:FALSE
SUMMARY:Social Security and Income Planning
DESCRIPTION:Topics include:  what's changed with Social Security law and what you can do before May\, strategies to reduce Social Security taxes\, how to maximize spousal benefits\, and how to create life-long income.  These unique classes are based on academic and government research.  Taught by Certified Financial Planner  Jo-Ann Holst.  There is no cost to attend and nothing will be sold.  RSVP 720-287-5880.
X-ALT-DESC;FMTTYPE=text/html:<span style="font-size:medium"><span style="font-family:calibri">Topics include:&nbsp\; what&rsquo\;s changed with Social Security law and what you can do before May\, strategies to reduce Social Security taxes\, how to maximize spousal benefits\, and how to create life-long income.&nbsp\; These unique classes are based on academic and government research.&nbsp\; Taught by Certified Financial Planner&trade\; Jo-Ann Holst.&nbsp\; There is no cost to attend and nothing will be sold.&nbsp\; RSVP 720-287-5880.</span></span><br />\n&nbsp\;
LOCATION:1st Bank in Belmar\, 550 S Wadsworth\, Lakewood 80226
UID:e.692.17051
SEQUENCE:3
DTSTAMP:20260422T054453Z
URL:https://business.goconifer.com/events/details/social-security-and-income-planning-01-23-2016-17051
END:VEVENT

END:VCALENDAR
