BEGIN:VCALENDAR
VERSION:2.0
PRODID:-//ChamberMaster//Event Calendar 2.0//EN
METHOD:PUBLISH
X-PUBLISHED-TTL:P3D
REFRESH-INTERVAL:P3D
CALSCALE:GREGORIAN
BEGIN:VEVENT
DTSTART:20150506T200000Z
DTEND:20150506T220000Z
X-MICROSOFT-CDO-ALLDAYEVENT:FALSE
SUMMARY:Social Media for Recruiting and Retention
DESCRIPTION:This seminar is especially designed for business owners in the resturaunt\, hospitality and retail industries. learn how you can use social media for easier employee recruitment and retention. This seminar is being co-sponsored by JCBRC and the American Job Center.
X-ALT-DESC;FMTTYPE=text/html:This seminar is especially designed for business owners in the resturaunt\, hospitality and retail industries. learn how you can use social media for easier employee recruitment and retention. This seminar is being co-sponsored by JCBRC and the American Job Center.
LOCATION:Abrusici's Italian Resturaunt
UID:e.692.10359
SEQUENCE:3
DTSTAMP:20260422T160015Z
URL:https://business.goconifer.com/events/details/social-media-for-recruiting-and-retention-05-06-2015-10359
END:VEVENT

END:VCALENDAR
