BEGIN:VCALENDAR
VERSION:2.0
PRODID:-//ChamberMaster//Event Calendar 2.0//EN
METHOD:PUBLISH
X-PUBLISHED-TTL:P3D
REFRESH-INTERVAL:P3D
CALSCALE:GREGORIAN
BEGIN:VEVENT
DTSTART:20130517T053000Z
DTEND:20130517T053000Z
X-MICROSOFT-CDO-ALLDAYEVENT:FALSE
SUMMARY:Social Media: Community Engagement (or "How We Can All Make $7 Million Dollars)
DESCRIPTION:Social Media: Community Engagement (or "How We Can All Make $7 Million Dollars Leveraging the Internet Through Social Media!").
X-ALT-DESC;FMTTYPE=text/html:<span style="font-weight: bold\; language: EN\;"><span style="font-size: 9pt\;"><span style="font-family: arial\;"><span style="color: rgb(255\, 51\, 0)\;">Social Media: Community Engagement (or &quot\;How We Can All Make $7 Million Dollars Leveraging the Internet Through Social Media!&quot\;).&nbsp\;</span></span></span></span><br />\n&nbsp\;<br />\n
LOCATION:At Conifer Community Church. 9998 S. Havecost Rd. (by ACE Hardware)
UID:e.692.1465
SEQUENCE:3
DTSTAMP:20260424T072400Z
URL:https://business.goconifer.com/events/details/social-media-community-engagement-or-how-we-can-all-make-7-million-dollars-05-16-2013-1465
END:VEVENT

END:VCALENDAR
