BEGIN:VCALENDAR
VERSION:2.0
PRODID:-//ChamberMaster//Event Calendar 2.0//EN
METHOD:PUBLISH
X-PUBLISHED-TTL:P3D
REFRESH-INTERVAL:P3D
CALSCALE:GREGORIAN
BEGIN:VEVENT
DTSTART;VALUE=DATE:20131230
DTEND;VALUE=DATE:20131231
TRANSP:TRANSPARENT
X-MICROSOFT-CDO-ALLDAYEVENT:TRUE
SUMMARY:Skate the Lake Family Friendly New Year's Celebration
DESCRIPTION:Enjoy a family friendly celebration!\n\nFireworks at 8p and midnight!
X-ALT-DESC;FMTTYPE=text/html:Enjoy a family friendly celebration!<br />\nFireworks at 8p and midnight!
LOCATION:Evergreen Lake
UID:e.692.1755
SEQUENCE:3
DTSTAMP:20260423T201112Z
URL:https://business.goconifer.com/events/details/skate-the-lake-family-friendly-new-year-s-celebration-12-30-2013-1755
END:VEVENT

END:VCALENDAR
