BEGIN:VCALENDAR
VERSION:2.0
PRODID:-//ChamberMaster//Event Calendar 2.0//EN
METHOD:PUBLISH
X-PUBLISHED-TTL:P3D
REFRESH-INTERVAL:P3D
CALSCALE:GREGORIAN
BEGIN:VEVENT
DTSTART:20250725T000000Z
DTEND:20250725T030000Z
X-MICROSOFT-CDO-ALLDAYEVENT:FALSE
SUMMARY:Sips for Scholarships - Aspen Peak Cellars
DESCRIPTION:Join us for an unforgettable evening at Aspen Peak Cellars\, where fine wine\, delicious food\, and a shared commitment to education come together. Sip\, savor\, and support Bootstraps\, helping mountain area students achieve their educational and career dreams.
X-ALT-DESC;FMTTYPE=text/html:<span style="color:rgb(0\, 0\, 0)\; font-family:open sans\,sans-serif\; font-size:16px">Join us for an unforgettable evening at Aspen Peak Cellars\, where fine wine\, delicious food\, and a shared commitment to education come together. Sip\, savor\, and support Bootstraps\, helping mountain area students achieve their educational and career dreams.</span>
LOCATION:Aspen Peak Cellars 60750 US Hwy 285\, Bailey\, CO 80421
UID:e.692.46818
SEQUENCE:3
DTSTAMP:20260425T215339Z
URL:https://business.goconifer.com/events/details/sips-for-scholarships-aspen-peak-cellars-46818
END:VEVENT

END:VCALENDAR
