BEGIN:VCALENDAR
VERSION:2.0
PRODID:-//ChamberMaster//Event Calendar 2.0//EN
METHOD:PUBLISH
X-PUBLISHED-TTL:P3D
REFRESH-INTERVAL:P3D
CALSCALE:GREGORIAN
BEGIN:VEVENT
DTSTART;VALUE=DATE:20140420
DTEND;VALUE=DATE:20140621
TRANSP:TRANSPARENT
X-MICROSOFT-CDO-ALLDAYEVENT:TRUE
SUMMARY:SHOE DRIVE for PeaceWorks\, Inc. and the Mountain Peace Shelter
DESCRIPTION:Your unneeded shoes will help impoverished families in developing nations\n\nwhile supporting PeaceWorks\, Inc. and the Mountain Peace Shelter. \n\nCollections through June 20!\n______________________________________________\n\n \nPeaceWorks provides the only emergency shelter\, 24/7 confidential crisis hotline\, and supportive services for survivors of domestic violence\, sexual assault\, stalking and other relationship crimes in a 2\,700 square mile service area encompassing all of Park County and mountain Jefferson County.\n______________________________________________\n\n \nAny style\, any condition shoes accepted. Drop off locations:\n\n  Bailey:  Mountain Peace Boutique\, Platte Canyon Community Church\n\n   Bergen Park:  Habitat ReSTORE\n\n \n\n  Conifer: Conifer Community Church\, King Soopers\, MRC Resale Shop\, Mutual of Omaha Bank\n\n \n\n  Evergreen: EChO Resale Shop\, United Methodist Church\n\n\n\nFairplay:  Department of Human Services\n\n \n\n                 and more!
X-ALT-DESC;FMTTYPE=text/html:<div style="text-align: center\;"><span style="font-weight:bold\;language:en-US\;"><span style="color:red\;"><span style="font-family:arial\;"><span style="font-size:12.0pt\;">Your unneeded shoes will help impoverished families in developing nations</span></span></span></span></div>\n\n<div style="text-align: center\;"><span style="font-weight:bold\;language:en-US\;"><span style="color:red\;"><span style="font-family:arial\;"><span style="font-size:12.0pt\;">while supporting </span></span></span></span><span style="font-variant:small-caps\;font-weight:bold\;language:en-US\;"><span style="color:red\;"><span style="font-family:georgia\;"><span style="font-size:12.0pt\;">PeaceWorks\, Inc</span></span></span></span><span style="font-weight:bold\;language:en-US\;"><span style="color:red\;"><span style="font-family:arial\;"><span style="font-size:12.0pt\;">. and the Mountain Peace Shelter.&nbsp\;<br />\nCollections through June 20!</span></span></span></span></div>\n<span style="font-weight:bold\;language:en-US\;"><span style="font-family:arial\;"><span style="font-size:3.0pt\;"></span></span></span><span style="font-weight:bold\;language:en-US\;"><span style="font-family:arial\;"><span style="font-size:4.0pt\;">______________________________________________</span></span></span><br />\n&nbsp\;\n<div style="text-align: center\;"><span style="font-family:arial\;">PeaceWorks provides the </span><span style="font-style:italic\;language:en-US\;"><span style="font-family:arial\;">only </span></span><span style="font-family:arial\;">emergency shelter\, 24/7 confidential crisis hotline\, and&nbsp\;supportive services for survivors of domestic violence\, sexual assault\, stalking and&nbsp\;other relationship crimes in a 2\,700 square mile service area&nbsp\;encompassing all of Park County and mountain Jefferson County.</span></div>\n<span style="font-weight:bold\;language:en-US\;"><span style="font-family:arial\;"><span style="font-size:4.0pt\;">______________________________________________</span></span></span><br />\n&nbsp\;\n<div style="text-align: center\;"><span style="font-weight:bold\;language:en-US\;"><span style="font-family:arial\;">Any style\, any condition shoes accepted</span></span><span style="font-family:arial\;">.&nbsp\;</span><span style="font-family: arial\; font-weight: bold\;">Drop off locations:</span></div>\n\n<p style="text-align: center\;"><span style="direction: ltr\; unicode-bidi: embed\;"><span style="color:black\;"><span style="font-size:8.0pt\;"><span style="font-family:symbol\;">&middot\;</span></span></span></span>&nbsp\;<span style="font-weight: bold\;"><span style="font-family:arial\;"><span style="font-size:8.0pt\;">Bailey</span></span></span><span style="font-family: arial\;"><span style="font-size:8.0pt\;">:&nbsp\; Mountain Peace Boutique\, Platte Canyon Community Church</span></span></p>\n\n<div style="text-align: center\;">&nbsp\;<span style="direction: ltr\; unicode-bidi: embed\;"><span style="color:black\;"><span style="font-size:8.0pt\;"><span style="font-family:symbol\;">&middot\;</span></span></span></span>&nbsp\;<span style="font-weight: bold\;"><span style="font-family:arial\;"><span style="font-size:8.0pt\;">Bergen Park</span></span></span><span style="font-family: arial\;"><span style="font-size:8.0pt\;">:&nbsp\; Habitat ReSTORE</span></span></div>\n\n<div style="text-align: center\;">&nbsp\;</div>\n\n<div style="text-align: center\;"><span style="direction:ltr\;unicode-bidi:embed\;language:x-none\;"><span style="color:black\;"><span style="font-size:8.0pt\;"><span style="font-family:symbol\;">&middot\;</span></span></span></span>&nbsp\;<span style="font-weight:bold\;language:en-US\;"><span style="font-family:arial\;"><span style="font-size:8.0pt\;">Conifer</span></span></span><span style="font-family:arial\;"><span style="font-size:8.0pt\;">: Conifer Community Church\, King Soopers\, MRC Resale Shop\, Mutual of Omaha Bank</span></span></div>\n\n<div style="text-align: center\;">&nbsp\;</div>\n\n<div style="text-align: center\;"><span style="direction:ltr\;unicode-bidi:embed\;language:x-none\;"><span style="color:black\;"><span style="font-size:8.0pt\;"><span style="font-family:symbol\;">&middot\;</span></span></span></span>&nbsp\;<span style="font-weight:bold\;language:en-US\;"><span style="font-family:arial\;"><span style="font-size:8.0pt\;">Evergreen</span></span></span><span style="font-family:arial\;"><span style="font-size:8.0pt\;">: EChO Resale Shop\, United Methodist Church<br />\n<br />\n<strong>Fairplay: &nbsp\;</strong>Department of Human Services</span></span><br />\n&nbsp\;</div>\n\n<div style="text-align: center\;"><span style="font-family:arial\;"><span style="font-size:8.0pt\;">&nbsp\;&nbsp\;&nbsp\;&nbsp\;&nbsp\;&nbsp\;&nbsp\;&nbsp\;&nbsp\;&nbsp\;&nbsp\;&nbsp\;&nbsp\;&nbsp\;&nbsp\;&nbsp\; and more!</span></span></div>\n\n<div style="text-align: center\;">&nbsp\;</div>\n<br />\n&nbsp\;<br />\n&nbsp\;
LOCATION:Bailey\, Conifer\, Evergreen\, Fairplay
UID:e.692.2932
SEQUENCE:3
DTSTAMP:20260423T121237Z
URL:https://business.goconifer.com/events/details/shoe-drive-for-peaceworks-inc-and-the-mountain-peace-shelter-04-20-2014-2932
END:VEVENT

END:VCALENDAR
