BEGIN:VCALENDAR
VERSION:2.0
PRODID:-//ChamberMaster//Event Calendar 2.0//EN
METHOD:PUBLISH
X-PUBLISHED-TTL:P3D
REFRESH-INTERVAL:P3D
CALSCALE:GREGORIAN
BEGIN:VEVENT
DTSTART:20101210T020000Z
DTEND:20101213T020000Z
X-MICROSOFT-CDO-ALLDAYEVENT:FALSE
SUMMARY:Shining Light Holiday Concert
DESCRIPTION:Evergreen Chorale and the award-winning Irish Band\, Colcannon\, present holiday music including lively tunes\, bells and stepdancing.
X-ALT-DESC;FMTTYPE=text/html:Evergreen Chorale and the award-winning Irish Band\, Colcannon\, present holiday music including lively tunes\, bells and stepdancing.
LOCATION:Center Stage\, 27608 Fireweed Dr.\, Evergreen
UID:e.692.815
SEQUENCE:3
DTSTAMP:20260424T212208Z
URL:https://business.goconifer.com/events/details/shining-light-holiday-concert-12-09-2010-815
END:VEVENT

END:VCALENDAR
