BEGIN:VCALENDAR
VERSION:2.0
PRODID:-//ChamberMaster//Event Calendar 2.0//EN
METHOD:PUBLISH
X-PUBLISHED-TTL:P3D
REFRESH-INTERVAL:P3D
CALSCALE:GREGORIAN
BEGIN:VEVENT
DTSTART:20160612T200000Z
DTEND:20160613T040000Z
X-MICROSOFT-CDO-ALLDAYEVENT:FALSE
SUMMARY:Shavuot Celebration
DESCRIPTION:Shavuot   A Celebration of Learning\n\n2 to 9 p.m. Sunday\, June 12\n\nFree and open to the community\n\n \n\nShavuot\, the Jewish holiday marking the giving of the Torah\, is traditionally a time to learn. To celebrate\, Congregation Beth Evergreen will offer a selection of rich and varied sessions from 2 to 9 p.m. Sunday\, June 12. Drop by the synagogue\, 2981 Bergen Peak Drive\, Evergreen\, for a few or all of the sessions and enjoy teachings\, storytelling\, remembrance\, music and food. The event is free and open to the community.\n\n \n\nSchedule of events and teachers*\n\n2 p.m.              Kabbalah Yoga\, Rabbi Jamie Arnold\n\n3 p.m.              Mindfulness Meditation\, Steve Mains\n\n4 p.m.              Tai Chi\, Charles Holman\n\n5 p.m.              Writing as Spiritual Practice\, Ron Solomon\n\n6 p.m.              Dream Interpretation\, Irene Clurman\n\n* Sessions run for 50 minutes with a ten-minute break between each one.\n\n\n\n\n\nThere will also be storytelling from 5 to 7 p.m. with storytellers Joanne Greenberg\, Rebecca Martin\, Steve Posner and Ron Solomon offering rotating 15-minute sessions.\n\n \n\n7 p.m.              Social and dinner break\n\n \n\nConcurrent sessions \n\n7:30 p.m.         Encountering the Religious Other\, Russ Arnold\n\n7:30 p.m.         Beth Evergreen Choir\n\n\n\n8:30 p.m.         Shavuot and Yizkor (memorial) services\n\n \n\nThe event is co-sponsored by Congregation Beth Evergreen's Spiritual Life Committee and Adult Education Committee.
X-ALT-DESC;FMTTYPE=text/html:<strong><span style="font-size:14.0pt">Shavuot &ndash\; A Celebration of Learning</span></strong><br />\n<strong><span style="font-size:14.0pt">2 to 9 p.m. Sunday\, June 12</span></strong><br />\n<strong><em><span style="font-size:14.0pt">Free and open to the community</span></em></strong><br />\n&nbsp\;<br />\nShavuot\, the Jewish holiday marking the giving of the Torah\, is traditionally a time to learn. To celebrate\, Congregation Beth Evergreen will offer a selection of rich and varied sessions from 2 to 9 p.m. Sunday\, June 12. Drop by the synagogue\, 2981 Bergen Peak Drive\, Evergreen\, for a few or all of the sessions and enjoy teachings\, storytelling\, remembrance\, music and food. The event is free and open to the community.<br />\n&nbsp\;<br />\n<strong>Schedule of events and teachers*</strong><br />\n2 p.m.&nbsp\; &nbsp\;&nbsp\;&nbsp\;&nbsp\;&nbsp\;&nbsp\;&nbsp\;&nbsp\;&nbsp\;&nbsp\;&nbsp\; Kabbalah Yoga\, Rabbi Jamie Arnold<br />\n3 p.m.&nbsp\;&nbsp\;&nbsp\;&nbsp\;&nbsp\;&nbsp\;&nbsp\;&nbsp\;&nbsp\;&nbsp\;&nbsp\;&nbsp\;&nbsp\; Mindfulness Meditation\, Steve Mains<br />\n4 p.m.&nbsp\;&nbsp\;&nbsp\;&nbsp\;&nbsp\;&nbsp\;&nbsp\;&nbsp\;&nbsp\;&nbsp\;&nbsp\;&nbsp\;&nbsp\; Tai Chi\, Charles Holman<br />\n5 p.m.&nbsp\;&nbsp\;&nbsp\;&nbsp\;&nbsp\;&nbsp\;&nbsp\;&nbsp\;&nbsp\;&nbsp\;&nbsp\;&nbsp\;&nbsp\; Writing as Spiritual Practice\, Ron Solomon<br />\n6 p.m. &nbsp\;&nbsp\;&nbsp\;&nbsp\;&nbsp\;&nbsp\;&nbsp\;&nbsp\;&nbsp\;&nbsp\;&nbsp\;&nbsp\; Dream Interpretation\, Irene Clurman<br />\n<em>* Sessions run for 50 minutes with a ten-minute break between each one.</em><br />\n<br />\n<br />\nThere will also be storytelling from 5 to 7 p.m. with storytellers Joanne Greenberg\, Rebecca Martin\, Steve Posner and Ron Solomon offering rotating 15-minute sessions.<br />\n&nbsp\;<br />\n7 p.m.&nbsp\;&nbsp\;&nbsp\;&nbsp\;&nbsp\;&nbsp\;&nbsp\;&nbsp\;&nbsp\;&nbsp\;&nbsp\;&nbsp\;&nbsp\; Social and dinner break<br />\n&nbsp\;<br />\n<strong>Concurrent sessions </strong><br />\n7:30 p.m.&nbsp\;&nbsp\;&nbsp\;&nbsp\;&nbsp\;&nbsp\;&nbsp\;&nbsp\; Encountering the Religious Other\, Russ Arnold<br />\n7:30 p.m.&nbsp\;&nbsp\;&nbsp\;&nbsp\;&nbsp\;&nbsp\;&nbsp\;&nbsp\; Beth Evergreen Choir<br />\n<br />\n8:30 p.m. &nbsp\;&nbsp\;&nbsp\;&nbsp\;&nbsp\;&nbsp\;&nbsp\; Shavuot and Yizkor (memorial) services<br />\n&nbsp\;<br />\n<em>The event is co-sponsored by Congregation Beth Evergreen&rsquo\;s Spiritual Life Committee and Adult Education Committee.</em>
LOCATION:Congregation Beth Evergreen\, 2981 Bergen Peak Drive\, Evergreen
UID:e.692.18879
SEQUENCE:3
DTSTAMP:20260421T200649Z
URL:https://business.goconifer.com/events/details/shavuot-celebration-06-12-2016-18879
END:VEVENT

END:VCALENDAR
