BEGIN:VCALENDAR
VERSION:2.0
PRODID:-//ChamberMaster//Event Calendar 2.0//EN
METHOD:PUBLISH
X-PUBLISHED-TTL:P3D
REFRESH-INTERVAL:P3D
CALSCALE:GREGORIAN
BEGIN:VEVENT
DTSTART:20160624T223000Z
DTEND:20160624T233000Z
X-MICROSOFT-CDO-ALLDAYEVENT:FALSE
SUMMARY:Service Circle for Holistic Practitioners w/ Stephanie Athena-Marie
DESCRIPTION:A HEALING SPACE FOR PRACTITIONERS OF THE HOLISTIC SERVICE FIELD\nThis event will occur TWICE a month\, EVERY month! If you can not make it to the first month\, plan ahead and join us the next time. We will be gathering the second Saturday from 9-10am and the fourth Friday from 4:30-5:30pm.\n\nApril's gatherings will be the 9th and the 22nd... if you will please spread the offering\, share this event on your page so your friends/family can come as well!\n\nGather with other holistic practitioners in an intimate group setting to share your current personal struggles\, challenges\, 'a-ha' moments\, growth and recent insights.\n\nA 'therapy for therapists' type group offers you the space to be seen\, heard and felt as you are. There will be a brief opening then we will split off into small groups of 3-4 to provide ample share time for each participant. The groups will share for approximately 45 minutes and then there will be a closing few words.\n\nAs a leader and helper in your community\, you most likely spend alot of your time listening to others and less time voicing your personal challenges and growing pains. This is your opportunity to be vulnerable\, witnessed and supported by those who understand the process of personal development and healing.\n\nTake this time for yourself\, join us in an amazing and beautiful space surrounded by nature and allow yourself to receive.\n\nWe look forward to meeting you and sharing with you! Blessings!\n\nWhen: Monthly\, Second Saturdays from 9-10am & Fourth Fridays from 4:30-5:30pm. April Gatherings: Saturday April 9th & Friday April 22nd\n\nInvestment: Donations accepted for utilizing the space\n\nRegister: Click Register Now Below\, call (303) 816-0429\, -OR- Email info@taspens.com\n\nQuestions? Please contact Stephanie Athena-Marie via Facebook or phone (303) 483-3815
X-ALT-DESC;FMTTYPE=text/html:A HEALING SPACE FOR PRACTITIONERS OF THE HOLISTIC SERVICE FIELD\n<p>This event will occur TWICE a month\, EVERY month! If you can not make it to the first month\, plan ahead and join us the next time. We will be gathering the second Saturday from 9-10am and the fourth Friday from 4:30-5:30pm.</p>\n\n<p>April&#39\;s gatherings will be the 9th and the 22nd... if you will please spread the offering\, share this event on your page so your friends/family can come as well!</p>\n\n<p>Gather with other holistic practitioners in an intimate group setting to share your current personal struggles\, challenges\, &#39\;a-ha&#39\; moments\, growth and recent insights.</p>\n\n<p>A &#39\;therapy for therapists&#39\; type group offers you the space to be seen\, heard and felt as you are. There will be a brief opening then we will split off into small groups of 3-4 to provide ample share time for each participant. The groups will share for approximately 45 minutes and then there will be a closing few words.</p>\n\n<p>As a leader and helper in your community\, you most likely spend alot of your time listening to others and less time voicing your personal challenges and growing pains. This is your opportunity to be vulnerable\, witnessed and supported by those who understand the process of personal development and healing.</p>\n\n<p>Take this time for yourself\, join us in an amazing and beautiful space surrounded by nature and allow yourself to receive.</p>\n\n<p>We look forward to meeting you and sharing with you! Blessings!</p>\n\n<p><span style="color:#008080"><strong>When:</strong></span> <strong>Monthly</strong>\, Second Saturdays from 9-10am &amp\; Fourth Fridays from 4:30-5:30pm. <strong>April Gatherings: Saturday April 9th &amp\; Friday April 22nd</strong></p>\n\n<p><span style="color:#008080"><strong>Investment:</strong></span> Donations accepted for utilizing the space</p>\n\n<p><span style="color:#008080"><strong>Register:</strong></span> Click Register Now Below\, call (303) 816-0429\, -OR- Email <a href="mailto:info@taspens.com" target="_blank">info@taspens.com</a></p>\n\n<p><span style="color:#008080"><strong>Questions?</strong></span> Please contact Stephanie Athena-Marie via Facebook or phone (303) 483-3815</p>\n
LOCATION:Taspen's Organics & Holistic Wellness Center 12424 Big Timber Drive Conifer\, CO 80433
UID:e.692.17211
SEQUENCE:3
DTSTAMP:20260421T211351Z
URL:https://business.goconifer.com/events/details/service-circle-for-holistic-practitioners-w-stephanie-athena-marie-06-24-2016-17211
END:VEVENT

END:VCALENDAR
