BEGIN:VCALENDAR
VERSION:2.0
PRODID:-//ChamberMaster//Event Calendar 2.0//EN
METHOD:PUBLISH
X-PUBLISHED-TTL:P3D
REFRESH-INTERVAL:P3D
CALSCALE:GREGORIAN
BEGIN:VEVENT
DTSTART:20240419T000000Z
DTEND:20240419T010000Z
X-MICROSOFT-CDO-ALLDAYEVENT:FALSE
SUMMARY:Sensitive Collective - Virtual Support Group for HSP
DESCRIPTION:Highly sensitive persons (HSP) are 25% of the population. We tend to be more aware of our surroundings\, anxious\, easily overwhelmed\, and exhausted. If left unaware\, and HSP can experience a host of nervous systems difficulties such as chronic fatigue\, fibromyalgia\, and others.\n\nHosted by Reiki Master Teacher Laura Palmer\, who is also a HSP.
X-ALT-DESC;FMTTYPE=text/html:<p>Highly sensitive persons (HSP) are 25% of the population. We tend to be more aware of our surroundings\, anxious\, easily overwhelmed\, and exhausted. If left unaware\, and HSP can experience a host of nervous systems difficulties such as chronic fatigue\, fibromyalgia\, and others.</p>\n\n<p>Hosted by Reiki Master Teacher Laura Palmer\, who is also a HSP.</p>\n
LOCATION:Register Here- https://www.eventbrite.com/e/sensitive-collective-for-highly-sensitive-people-tickets-247339638517?aff=oddtdtcreator
UID:e.692.41032
SEQUENCE:3
DTSTAMP:20260424T050926Z
URL:https://business.goconifer.com/events/details/sensitive-collective-virtual-support-group-for-hsp-41032
END:VEVENT

END:VCALENDAR
