BEGIN:VCALENDAR
VERSION:2.0
PRODID:-//ChamberMaster//Event Calendar 2.0//EN
METHOD:PUBLISH
X-PUBLISHED-TTL:P3D
REFRESH-INTERVAL:P3D
CALSCALE:GREGORIAN
BEGIN:VEVENT
DTSTART:20100610T133000Z
DTEND:20100610T143000Z
X-MICROSOFT-CDO-ALLDAYEVENT:FALSE
SUMMARY:Seniors' Resource Center Gift of Independence Breakfast
DESCRIPTION:Seniors' Resource Center Gift of Independence breakfast. A fundraising event to benefit the Yellow House\, Seniors' Resource Center and the seniors in our community.
X-ALT-DESC;FMTTYPE=text/html:<div>Seniors' Resource Center Gift of Independence breakfast.</div><div>&nbsp\;</div><div>A fundraising event to benefit the Yellow House\, Seniors' Resource Center and the seniors in our community.</div>
LOCATION:Held at the Hiwan Golf Club.30671 Clubhouse Lane\, Evergreen\, CO 80439
UID:e.692.307
SEQUENCE:3
DTSTAMP:20260424T130847Z
URL:https://business.goconifer.com/events/details/seniors-resource-center-gift-of-independence-breakfast-06-10-2010-307
END:VEVENT

END:VCALENDAR
