BEGIN:VCALENDAR
VERSION:2.0
PRODID:-//ChamberMaster//Event Calendar 2.0//EN
METHOD:PUBLISH
X-PUBLISHED-TTL:P3D
REFRESH-INTERVAL:P3D
CALSCALE:GREGORIAN
BEGIN:VEVENT
DTSTART:20140925T150000Z
DTEND:20140925T180000Z
X-MICROSOFT-CDO-ALLDAYEVENT:FALSE
SUMMARY:Senior Fall Prevention Fair
DESCRIPTION:Falls are the leading cause of injury-related emergency department visits for older adults. That's why St. Anthony Hospital and Seniors' Resource Center are teaming up to raise awareness and educate older adults on falls risks. Screening & Educational information provided by health care professionals include:  \n\n	 Home safety display & fall prevention\n	Balance assessments\n	Nutrition & healthy eating  \n	Blood pressure checks & stroke awareness\n	Education on medications that may put you more at risk for a fall\n	Aging & sleep disorders\n	Mental health guidance & assessments\n	Music therapy\n	Plus chair massages\, refreshments and great prizes!
X-ALT-DESC;FMTTYPE=text/html:Falls are the leading cause of injury-related emergency department visits for older adults. That&#39\;s why St. Anthony Hospital and Seniors&#39\; Resource Center are teaming up to raise awareness and educate older adults on falls risks. Screening &amp\; Educational information provided by health care professionals include: &nbsp\;\n<ul>\n	<li>&#8203\;Home safety display &amp\; fall prevention</li>\n	<li>Balance assessments</li>\n	<li>Nutrition &amp\; healthy eating &nbsp\;</li>\n	<li>Blood pressure checks &amp\; stroke awareness</li>\n	<li>Education on medications that may put you more at risk for a fall</li>\n	<li>Aging &amp\; sleep disorders</li>\n	<li>Mental health guidance &amp\; assessments</li>\n	<li>Music therapy</li>\n	<li>Plus chair massages\, refreshments and great prizes!</li>\n</ul>\n
LOCATION:"Seniors' Resource Center Southwest" 10181-B West Bowles Ave. (NW corner of Bowles and Kiplng) Littleton\, CO 80127
UID:e.692.3348
SEQUENCE:3
DTSTAMP:20260423T073658Z
URL:https://business.goconifer.com/events/details/senior-fall-prevention-fair-09-25-2014-3348
END:VEVENT

END:VCALENDAR
