BEGIN:VCALENDAR
VERSION:2.0
PRODID:-//ChamberMaster//Event Calendar 2.0//EN
METHOD:PUBLISH
X-PUBLISHED-TTL:P3D
REFRESH-INTERVAL:P3D
CALSCALE:GREGORIAN
BEGIN:VEVENT
DTSTART:20131203T190000Z
DTEND:20131203T200000Z
X-MICROSOFT-CDO-ALLDAYEVENT:FALSE
SUMMARY:Senior Citizen Luncheon sponsored by the Salvation Army
DESCRIPTION:Senior Citizen Luncheon
X-ALT-DESC;FMTTYPE=text/html:Senior Citizen Luncheon
LOCATION:Aspen Ridge Church (Marshdale Roundabout)
UID:e.692.1609
SEQUENCE:3
DTSTAMP:20260423T213149Z
URL:https://business.goconifer.com/events/details/senior-citizen-luncheon-sponsored-by-the-salvation-army-12-03-2013-1609
END:VEVENT

END:VCALENDAR
