BEGIN:VCALENDAR
VERSION:2.0
PRODID:-//ChamberMaster//Event Calendar 2.0//EN
METHOD:PUBLISH
X-PUBLISHED-TTL:P3D
REFRESH-INTERVAL:P3D
CALSCALE:GREGORIAN
BEGIN:VEVENT
DTSTART:20130308T141500Z
DTEND:20130308T160000Z
X-MICROSOFT-CDO-ALLDAYEVENT:FALSE
SUMMARY:Second Annual Conifer Chamber Awards
DESCRIPTION:Second Annual Conifer Chamber Awards\n\n\n\nAwards are Business of the Year\, Non-Profit of the Year\, Home-Based Business of the Year\, Ambassador of the Year\, and the Norman F. Meyer Award for Outstanding Service in our Mountain Area.\n\n\n\nNominations are due by Friday\, Feb. 8th.
X-ALT-DESC;FMTTYPE=text/html:Second Annual Conifer Chamber Awards<br />\n<br />\nAwards are Business of the Year\, Non-Profit of the Year\, Home-Based Business of the Year\, Ambassador of the Year\, and the Norman F. Meyer Award for Outstanding Service in our Mountain Area.<br />\n<br />\nNominations are due by Friday\, Feb. 8th.<br />\n
LOCATION:Brooks Place 27175 Main Street Conifer\, CO 80433 (In front of Safeway between Sonic and Starbucks)
UID:e.692.1391
SEQUENCE:3
DTSTAMP:20260424T091418Z
URL:https://business.goconifer.com/events/details/second-annual-conifer-chamber-awards-03-08-2013-1391
END:VEVENT

END:VCALENDAR
