BEGIN:VCALENDAR
VERSION:2.0
PRODID:-//ChamberMaster//Event Calendar 2.0//EN
METHOD:PUBLISH
X-PUBLISHED-TTL:P3D
REFRESH-INTERVAL:P3D
CALSCALE:GREGORIAN
BEGIN:VEVENT
DTSTART:20160716T150000Z
DTEND:20160716T210000Z
X-MICROSOFT-CDO-ALLDAYEVENT:FALSE
SUMMARY:Rummage Sale
DESCRIPTION:Local Rummage Sale\n\nDonations accepted for the sale and can be arranges beforehand by calling 303-819-0465. 10% of the proceeds will go to CureDuchenne.
X-ALT-DESC;FMTTYPE=text/html:Local Rummage Sale<br />\nDonations accepted for the sale and can be arranges beforehand by calling 303-819-0465. 10% of the proceeds will go to CureDuchenne.
LOCATION:Risen Lord Lutheran Church 25797 Conifer Road (across the street and south of the Conifer Post Office)
UID:e.692.18928
SEQUENCE:3
DTSTAMP:20260421T193359Z
URL:https://business.goconifer.com/events/details/rummage-sale-07-16-2016-18928
END:VEVENT

END:VCALENDAR
