BEGIN:VCALENDAR
VERSION:2.0
PRODID:-//ChamberMaster//Event Calendar 2.0//EN
METHOD:PUBLISH
X-PUBLISHED-TTL:P3D
REFRESH-INTERVAL:P3D
CALSCALE:GREGORIAN
BEGIN:VEVENT
DTSTART;VALUE=DATE:20170331
DTEND;VALUE=DATE:20170403
TRANSP:TRANSPARENT
X-MICROSOFT-CDO-ALLDAYEVENT:TRUE
SUMMARY:RUGGED RUNNING BOOT CAMP AND SELF DEFENSE
DESCRIPTION:Join us for a weekend of learning\, fitness\, running\, and SELF DEFENSE!!! We are bringing in one of the best instructors to teach you basic self defense skills! Healthy food and fun are part of the package too! Limit 4. 18yrs old and up! http://www.ruggedrunning.com/boot-camp
X-ALT-DESC;FMTTYPE=text/html:<span style="font-family:avenir-lt-w01_35-light1475496\,sans-serif\; font-size:15px">Join us for a weekend of learning\, fitness\, running\, and SELF DEFENSE!!! We are bringing in one of the best instructors to teach you basic self defense skills! Healthy food and fun are part of the package too! Limit 4. 18yrs old and up!&nbsp\;</span><a href="http://www.ruggedrunning.com/boot-camp">http://www.ruggedrunning.com/boot-camp</a>
LOCATION:CONIFER COLORADO
UID:e.692.21886
SEQUENCE:3
DTSTAMP:20260425T153835Z
URL:https://business.goconifer.com/events/details/rugged-running-boot-camp-and-self-defense-21886
END:VEVENT

END:VCALENDAR
