BEGIN:VCALENDAR
VERSION:2.0
PRODID:-//ChamberMaster//Event Calendar 2.0//EN
METHOD:PUBLISH
X-PUBLISHED-TTL:P3D
REFRESH-INTERVAL:P3D
CALSCALE:GREGORIAN
BEGIN:VEVENT
DTSTART:20140329T200000Z
DTEND:20140329T230000Z
X-MICROSOFT-CDO-ALLDAYEVENT:FALSE
SUMMARY:Rockin' Rapids at Aspen Peak Cellars
DESCRIPTION:Join us for a relaxing afternoon with Live Music\, Wine and Picnic Foods. Enjoy the talents of our local musicians in a quaint winery setting. Rain or shine will determine indoors or on our shaded patio.
X-ALT-DESC;FMTTYPE=text/html:Join us for a relaxing afternoon with Live Music\, Wine and Picnic Foods. Enjoy the talents of our local musicians in a quaint winery setting. Rain or shine will determine indoors or on our shaded patio.
LOCATION:60750 US Hwy 285\, Bailey\, CO 80421
UID:e.692.1807
SEQUENCE:3
DTSTAMP:20260423T155833Z
URL:https://business.goconifer.com/events/details/rockin-rapids-at-aspen-peak-cellars-03-29-2014-1807
END:VEVENT

END:VCALENDAR
