BEGIN:VCALENDAR
VERSION:2.0
PRODID:-//ChamberMaster//Event Calendar 2.0//EN
METHOD:PUBLISH
X-PUBLISHED-TTL:P3D
REFRESH-INTERVAL:P3D
CALSCALE:GREGORIAN
BEGIN:VEVENT
DTSTART:20100625T140000Z
DTEND:20100625T200000Z
X-MICROSOFT-CDO-ALLDAYEVENT:FALSE
SUMMARY:RMYC Dental Care Mobile
DESCRIPTION:In partnership with Mountain Resource Center the Ronald Mc Donald Care Mobile provides oral dental care services to children ages 18 months to 18 yrs with NO dental insurance.
X-ALT-DESC;FMTTYPE=text/html: In partnership with Mountain Resource Center the Ronald Mc Donald Care Mobile provides oral dental care services to children ages 18 months to 18 yrs with NO dental insurance. 
LOCATION:ECHO Church of the Transfiguration 27640 Highway 74\, Evergreen Co 80439
UID:e.692.432
SEQUENCE:3
DTSTAMP:20260424T141638Z
URL:https://business.goconifer.com/events/details/rmyc-dental-care-mobile-06-25-2010-432
END:VEVENT

END:VCALENDAR
