BEGIN:VCALENDAR
VERSION:2.0
PRODID:-//ChamberMaster//Event Calendar 2.0//EN
METHOD:PUBLISH
X-PUBLISHED-TTL:P3D
REFRESH-INTERVAL:P3D
CALSCALE:GREGORIAN
BEGIN:VEVENT
DTSTART:20101217T230000Z
DTEND:20101218T000000Z
X-MICROSOFT-CDO-ALLDAYEVENT:FALSE
SUMMARY:Ribbon Cutting: Up The Mountain Steakhouse
DESCRIPTION:Ribbon Cutting for our new Conifer Chamber members!\n\nJoin us for Happy Hour afterwards!
X-ALT-DESC;FMTTYPE=text/html:Ribbon&nbsp\;Cutting for our new Conifer Chamber members!<br />\nJoin us for Happy Hour afterwards!
LOCATION:27175 Main Street Conifer\, CO 80433 (in the new Safeway Shopping Center) 303.816.2277
UID:e.692.825
SEQUENCE:3
DTSTAMP:20260424T230034Z
URL:https://business.goconifer.com/events/details/ribbon-cutting-up-the-mountain-steakhouse-12-17-2010-825
END:VEVENT

END:VCALENDAR
