BEGIN:VCALENDAR
VERSION:2.0
PRODID:-//ChamberMaster//Event Calendar 2.0//EN
METHOD:PUBLISH
X-PUBLISHED-TTL:P3D
REFRESH-INTERVAL:P3D
CALSCALE:GREGORIAN
BEGIN:VEVENT
DTSTART:20131114T230000Z
DTEND:20131115T010000Z
X-MICROSOFT-CDO-ALLDAYEVENT:FALSE
SUMMARY:Ribbon Cutting and Open House for Aspen Park Dental
DESCRIPTION:Open House and Ribbon Cutting for Aspen Park Dental!
X-ALT-DESC;FMTTYPE=text/html:Open House and Ribbon Cutting for Aspen Park Dental!
LOCATION:27132 Main Street Suite 200 Conifer (by Safeway)
UID:e.692.1592
SEQUENCE:3
DTSTAMP:20260423T212724Z
URL:https://business.goconifer.com/events/details/ribbon-cutting-and-open-house-for-aspen-park-dental-11-14-2013-1592
END:VEVENT

END:VCALENDAR
