BEGIN:VCALENDAR
VERSION:2.0
PRODID:-//ChamberMaster//Event Calendar 2.0//EN
METHOD:PUBLISH
X-PUBLISHED-TTL:P3D
REFRESH-INTERVAL:P3D
CALSCALE:GREGORIAN
BEGIN:VEVENT
DTSTART:20130314T210000Z
DTEND:20130314T230000Z
X-MICROSOFT-CDO-ALLDAYEVENT:FALSE
SUMMARY:Resume Writing Workshop
DESCRIPTION:Attend this free resume writing workshop at the Mountain Resource Center.  Discover resume writing techniques\, update your work skills\,  learn resume do's and don'ts\, and find out how to write a cover letter.  Space is limited so please rsvp at 303-838-7552.
X-ALT-DESC;FMTTYPE=text/html:Attend this free resume writing workshop at the Mountain Resource Center. &nbsp\;Discover resume writing techniques\, update your work skills\, &nbsp\;learn resume do&#39\;s and don&#39\;ts\, and find out how to write a cover letter. &nbsp\;Space is limited so please rsvp at 303-838-7552. &nbsp\;
LOCATION:Mountain Resource Center\, Kitty Drive\, Conifer\, CO 80433
UID:e.692.1425
SEQUENCE:3
DTSTAMP:20260424T084529Z
URL:https://business.goconifer.com/events/details/resume-writing-workshop-03-14-2013-1425
END:VEVENT

END:VCALENDAR
