BEGIN:VCALENDAR
VERSION:2.0
PRODID:-//ChamberMaster//Event Calendar 2.0//EN
METHOD:PUBLISH
X-PUBLISHED-TTL:P3D
REFRESH-INTERVAL:P3D
CALSCALE:GREGORIAN
BEGIN:VEVENT
DTSTART:20150321T160000Z
DTEND:20150321T213000Z
X-MICROSOFT-CDO-ALLDAYEVENT:FALSE
SUMMARY:Resilient Me HeartMath Workshop
DESCRIPTION:A workshop designed to enhance your personal and professional effectiveness\n\nwith Susana Moening & Candice Bataille\n\n\n\nSaturday\, January 31st\n\n 10am-3:30pm\n\nCost: $125\n\n\n\nLearn tools to help you:\n\n -Think with greater clarity and make wiser decisions\n\n -Improve communication\n\n -Transform the physiological response to stress\n\n -Increase vitality and well-being\n\n -Calm the heart and improve your emotional health\n\n\n\nContent:\n\nResilience: How to build and sustain it\n\n -The physiology of resilience and optimal function.\n\n -The role of thoughts and emotions in performance and health\n\nCoherence: Achieving greater resilience\n\n -Coherence creation tools\n\n\n\n * This workshop is based on the Institute of HeartMath resilience training and provides simple\, proven tools and technologies that can be implemented in real-time to reduce stress and help retrain the human stress response to healthier\, more productive function.*
X-ALT-DESC;FMTTYPE=text/html:A workshop designed to enhance your personal and professional effectiveness<br />\nwith Susana Moening &amp\; Candice Bataille<br />\n<br />\nSaturday\, January 31st<br />\n&nbsp\;10am-3:30pm<br />\nCost: $125<br />\n<br />\nLearn tools to help you:<br />\n&nbsp\;-Think with greater clarity and make wiser decisions<br />\n&nbsp\;-Improve communication<br />\n&nbsp\;-Transform the physiological response to stress<br />\n&nbsp\;-Increase vitality and well-being<br />\n&nbsp\;-Calm the heart and improve your emotional health<br />\n<br />\nContent:<br />\nResilience: How to build and sustain it<br />\n&nbsp\;-The physiology of resilience and optimal function.<br />\n&nbsp\;-The role of thoughts and emotions in performance and health<br />\nCoherence: Achieving greater resilience<br />\n&nbsp\;-Coherence creation tools<br />\n<br />\n&nbsp\;* This workshop is based on the Institute of HeartMath resilience training and provides simple\, proven tools and technologies that can be implemented in real-time to reduce stress and help retrain the human stress response to healthier\, more productive function.*
LOCATION:Taspen's Organics & Holistic Wellness Center 12424 Big Timber Dr. Conifer\, CO 80433
UID:e.692.8327
SEQUENCE:3
DTSTAMP:20260422T190842Z
URL:https://business.goconifer.com/events/details/resilient-me-heartmath-workshop-03-21-2015-8327
END:VEVENT

END:VCALENDAR
