BEGIN:VCALENDAR
VERSION:2.0
PRODID:-//ChamberMaster//Event Calendar 2.0//EN
METHOD:PUBLISH
X-PUBLISHED-TTL:P3D
REFRESH-INTERVAL:P3D
CALSCALE:GREGORIAN
BEGIN:VEVENT
DTSTART:20160423T150000Z
DTEND:20160423T220000Z
X-MICROSOFT-CDO-ALLDAYEVENT:FALSE
SUMMARY:Resilient Me! A HeartMath Workshop w/ Candice Bataille & Susana Moening
DESCRIPTION:A HeartMath workshop designed to help you lower stress\, revitalize energy and resilience and restore balance in your body\, mind and heart.\n\n \n\nLearn tools to help you:\n\n*Bridge the connection between your heart & mind\n\n*Think with greater clarity and make wiser decisions\n\n*Improve communication with family members and colleagues\n\n*Transform the physiological response to stress\n\n*Grow your resilience capacity to effectively handle the challenges life brings\n\n*Increase vitality and well-being\n\n*Calm the heart and improve your emotional health\n\n \n\nContent:\n\nResilience: How to build and sustain it\n\n*The physiology of resilience\n\n*The role of thoughts and emotions in performance & health\n\n \n\nCoherence: Creation Tools\n\n*Add flow and energy to your home and work environment\n\n*Unite with others around the globe in heart-focused care\n\n \n\nThis workshop is based on the Institute of HeartMath resilience training and provides simple\, proven tools and technologies that can be implemented in real-time to reduce stress and help retrain the human stress response to healthier\, more productive function.\n\n \n\nWhen: Saturday\, April 23rd\, 9am-4pm\n\nInvestment: $125\n\nRegister & More Info: Contact Susana: 303-801-7730\, susana@mindfulshifts.com\n\n-OR- Contact Taspen's: www.taspens.com\, 303-816-0429\, Email info@taspens.com\n\n\n\nInstructors:\n\nCandice Bataille\n\nFounder of Glowmundo\n\nDevelopment Consultant\n\n\n\nSusana Moening\n\nBodyTalk Practitioner\n\nBodyTalk Access Instructor
X-ALT-DESC;FMTTYPE=text/html:<div>\n<div>A HeartMath workshop designed to help you lower stress\, revitalize energy and resilience and restore balance in your body\, mind and heart.</div>\n\n<div>&nbsp\;</div>\n\n<div>Learn tools to help you:</div>\n\n<div>*Bridge the connection between your heart &amp\; mind</div>\n\n<div>*Think with greater clarity and make wiser decisions</div>\n\n<div>*Improve communication with family members and colleagues</div>\n\n<div>*Transform the physiological response to stress</div>\n\n<div>*Grow your resilience capacity to effectively handle the challenges life brings</div>\n\n<div>*Increase vitality and well-being</div>\n\n<div>*Calm the heart and improve your emotional health</div>\n\n<div>&nbsp\;</div>\n\n<div>Content:</div>\n\n<div>Resilience: How to build and sustain it</div>\n\n<div>*The physiology of resilience</div>\n\n<div>*The role of thoughts and emotions in performance &amp\; health</div>\n\n<div>&nbsp\;</div>\n\n<div>Coherence: Creation Tools</div>\n\n<div>*Add flow and energy to your home and work environment</div>\n\n<div>*Unite with others around the globe in heart-focused care</div>\n\n<div>&nbsp\;</div>\n\n<div>This workshop is based on the Institute of HeartMath resilience training and provides simple\, proven tools and technologies that can be implemented in real-time to reduce stress and help retrain the human stress response to healthier\, more productive function.</div>\n\n<div>&nbsp\;</div>\n\n<div><span style="color:#008080"><strong>When:</strong></span> Saturday\, April 23rd\, 9am-4pm\n\n<p><span style="color:#008080"><strong>Investment:</strong></span> $125</p>\n\n<p><span style="color:#008080"><strong>Register &amp\; More Info:</strong></span> Contact Susana: 303-801-7730\, <a href="mailto:susana@mindfulshifts.com" target="_blank">susana@mindfulshifts.com</a></p>\n\n<p>-OR- Contact Taspen&#39\;s: www.taspens.com\, 303-816-0429\, Email <a href="mailto:info@taspens.com" target="_blank">info@taspens.com</a></p>\n\n<p><br />\nInstructors:</p>\n\n<p>Candice Bataille<br />\nFounder of Glowmundo<br />\nDevelopment Consultant</p>\n\n<p><br />\nSusana Moening<br />\nBodyTalk Practitioner<br />\nBodyTalk Access Instructor</p>\n</div>\n</div>\n
LOCATION:Taspen's Organics & Holistic Wellness Center 12424 Big Timber Drive Conifer\, CO 80433
UID:e.692.17215
SEQUENCE:3
DTSTAMP:20260422T000853Z
URL:https://business.goconifer.com/events/details/resilient-me-a-heartmath-workshop-w-candice-bataille-susana-moening-04-23-2016-17215
END:VEVENT

END:VCALENDAR
