BEGIN:VCALENDAR
VERSION:2.0
PRODID:-//ChamberMaster//Event Calendar 2.0//EN
METHOD:PUBLISH
X-PUBLISHED-TTL:P3D
REFRESH-INTERVAL:P3D
CALSCALE:GREGORIAN
BEGIN:VEVENT
DTSTART:20160822T223000Z
DTEND:20160823T000000Z
X-MICROSOFT-CDO-ALLDAYEVENT:FALSE
SUMMARY:Relay for Life Volunteer Meeting
DESCRIPTION:Are you looking for a great way to give back to your community? Join a group of local volunteers working together to put on Relay for Life\, an annual fundraising event benefiting the American Cancer Society.  \n\n\n\nAll are welcome\, no job is too small.
X-ALT-DESC;FMTTYPE=text/html:Are you looking for a great way to give back to your community? Join a group of local volunteers working together to put on Relay for Life\, an annual fundraising event&nbsp\;benefiting&nbsp\;the&nbsp\;American Cancer Society. &nbsp\;<br />\n<br />\nAll are welcome\, no job is too small. &nbsp\;
LOCATION:Da Kind Soup
UID:e.692.16433
SEQUENCE:3
DTSTAMP:20260421T180742Z
URL:https://business.goconifer.com/events/details/relay-for-life-volunteer-meeting-08-22-2016-16433
END:VEVENT

END:VCALENDAR
